BEGIN:VCALENDAR
VERSION:2.0
PRODID:-//ICREJ - Institut caennais de recherche juridique - ECPv6.15.18//NONSGML v1.0//EN
CALSCALE:GREGORIAN
METHOD:PUBLISH
X-ORIGINAL-URL:https://icrej.unicaen.fr
X-WR-CALDESC:Évènements pour ICREJ - Institut caennais de recherche juridique
REFRESH-INTERVAL;VALUE=DURATION:PT1H
X-Robots-Tag:noindex
X-PUBLISHED-TTL:PT1H
BEGIN:VTIMEZONE
TZID:Europe/Paris
BEGIN:DAYLIGHT
TZOFFSETFROM:+0100
TZOFFSETTO:+0200
TZNAME:CEST
DTSTART:20250330T010000
END:DAYLIGHT
BEGIN:STANDARD
TZOFFSETFROM:+0200
TZOFFSETTO:+0100
TZNAME:CET
DTSTART:20251026T010000
END:STANDARD
BEGIN:DAYLIGHT
TZOFFSETFROM:+0100
TZOFFSETTO:+0200
TZNAME:CEST
DTSTART:20260329T010000
END:DAYLIGHT
BEGIN:STANDARD
TZOFFSETFROM:+0200
TZOFFSETTO:+0100
TZNAME:CET
DTSTART:20261025T010000
END:STANDARD
BEGIN:DAYLIGHT
TZOFFSETFROM:+0100
TZOFFSETTO:+0200
TZNAME:CEST
DTSTART:20270328T010000
END:DAYLIGHT
BEGIN:STANDARD
TZOFFSETFROM:+0200
TZOFFSETTO:+0100
TZNAME:CET
DTSTART:20271031T010000
END:STANDARD
END:VTIMEZONE
BEGIN:VEVENT
DTSTART;TZID=Europe/Paris:20260608T170000
DTEND;TZID=Europe/Paris:20260608T190000
DTSTAMP:20260421T215246
CREATED:20251106T083012Z
LAST-MODIFIED:20260414T125446Z
UID:89335-1780938000-1780945200@icrej.unicaen.fr
SUMMARY:Atelier de la SCI · SCI et personnes protégées
DESCRIPTION:Intervenants\n\n\n\n\nSandrine TISSEYRE\, professeure à l’université Toulouse Capitole\n\n\n\nJean-Christophe PAGNUCCO\, professeur à l’université Caen Normandie\n\n\n\n\nDiscutant\n\n\n\n\nGilles RAOUL-CORMEIL\, professeur à l’université Caen Normandie\n\n\n\n\n\nInscription\n\n\n\n\n\nInscription possible avant le lundi 1er juin 2026 \n\n\n\n\n\n\nFormation continue : Bulletin à compléter et à renvoyer sur droit.recherche@unicaen.fr \n\n\n\nAvocat du Barreau de Caen : Bulletin spécifique à compléter et à renvoyer sur droit.recherche@unicaen.fr ainsi qu’au secrétaire de l’Ordre de Avocats \n\n\n\nAuditeur libre : Gratuité\, sans délivrance d’attestation de présence \n\n\n\n\nS’inscrire comme auditeur libre
URL:https://icrej.unicaen.fr/evenement/atelier-de-la-sci-sci-et-personnes-protegees/
LOCATION:Caen · Campus 1 · Bâtiment D · Amphi Nicolas Oresme\, Centre de recherche en sciences de l'éducation\, Esplanade de la Paix\, Caen\, 14000\, France
CATEGORIES:Conférence
ATTACH;FMTTYPE=image/jpeg:https://icrej.unicaen.fr/wp-content/uploads/sites/21/2025/11/2025-2026_Ateliers_SCI.jpg
ORGANIZER;CN="Institut caennais de recherche juridique (ICREJ)":MAILTO:droit.recherche@unicaen.fr
END:VEVENT
BEGIN:VEVENT
DTSTART;TZID=Europe/Paris:20260609T000000
DTEND;TZID=Europe/Paris:20260610T235959
DTSTAMP:20260421T215246
CREATED:20260302T103248Z
LAST-MODIFIED:20260409T095208Z
UID:89863-1780963200-1781135999@icrej.unicaen.fr
SUMMARY:La santé\, quels enjeux actuels ? Approche pluridisciplinaire et transversale
DESCRIPTION:Colloque international co-organisé par Amandine Cayol\, professeure de droit privé à l’université de Caen Normandie \n\n\n\nProgramme \n\n\n\nProgramme (pdf · 1 Mo)
URL:https://icrej.unicaen.fr/evenement/la-sante-quels-enjeux-actuels-approche-pluridisciplinaire-et-transversale/
LOCATION:Amphithéâtre Abderrazak Moulay Rchid\, Université Mohammed V de Rabat\, Université Mohammed V de Rabat Faculté des Sciences Juridiques\, Economiques et Sociales Souissi-Rabat\, Rabat\, Morocco
CATEGORIES:Congrès - Colloque
ATTACH;FMTTYPE=image/jpeg:https://icrej.unicaen.fr/wp-content/uploads/sites/21/2026/04/2026-06-09_colloque-rabat.jpg
END:VEVENT
BEGIN:VEVENT
DTSTART;TZID=Europe/Paris:20260612T120000
DTEND;TZID=Europe/Paris:20260612T140000
DTSTAMP:20260421T215246
CREATED:20250702T130602Z
LAST-MODIFIED:20260126T081737Z
UID:52685-1781265600-1781272800@icrej.unicaen.fr
SUMMARY:Conférence d'actualité de la RSE
DESCRIPTION:par Jean-Christophe Pagnucco\, professeur de droit privé à l’université de Caen Normandie et Aïda Bennini\, maître de conférences HDR à l’université Sorbonne Paris Nord et membre associé de l’ICREJ \n\n\n\n\nInscription\n\n\n\n\n\nInscription possible avant le vendredi 5 juin 2026 \n\n\n\n\n\n\nFormation continue : Bulletin à compléter et à renvoyer sur droit.recherche@unicaen.fr \n\n\n\nAvocat du Barreau de Caen : Bulletin spécifique à compléter et à renvoyer sur droit.recherche@unicaen.fr ainsi qu’au secrétaire de l’Ordre de Avocats \n\n\n\nAuditeur libre : Gratuité\, sans délivrance d’attestation de présence (lien en cours d’édition)
URL:https://icrej.unicaen.fr/evenement/conference-dactualite-de-la-rse/
LOCATION:Caen · Campus 1 · Bâtiment D · 4e étage · Salle du Belvédère\, Esplanade de la Paix\, Caen\, 14000\, France
CATEGORIES:Conférence d'actualité
ATTACH;FMTTYPE=image/jpeg:https://icrej.unicaen.fr/wp-content/uploads/sites/21/2024/07/2025-2026_ConferencesActu.jpg
END:VEVENT
BEGIN:VEVENT
DTSTART;TZID=Europe/Paris:20260617T143000
DTEND;TZID=Europe/Paris:20260617T180000
DTSTAMP:20260421T215246
CREATED:20260129T091257Z
LAST-MODIFIED:20260129T113524Z
UID:50888-1781706600-1781719200@icrej.unicaen.fr
SUMMARY:Soutenance de thèse : M. Jean-Baptiste Contargyris
DESCRIPTION:L’ICREJ vous informe que M. Jean-Baptiste Contargyris soutient sa thèse de doctorat intitulée : “Juger les gouvernants en France et en Italie à la Libération“\, le mercredi 17 juin 2026\, à 14h30. \n\n\n\nJury est composé de : \n\n\n\n\nM. Olivier BEAUD\, professeur\, université Paris 2 Panthéon-Assas\, directeur de thèse\n\n\n\nMme Eleonora BOTTINI\, professeure\, Sciences Po Paris\, directrice de thèse\n\n\n\nMme Cécile GUÉRIN-BARGUES\, professeure\, université Paris 2 Panthéon-Assas\, membre du jury\n\n\n\nM. Luigi LACCHÉ\, professeur\, université de Macerata (Italie)\, membre du jury\n\n\n\nM. Jean-Christophe LE COUSTUMER\, professeur\, université de Caen Normandie\, membre du jury\n\n\n\nM. Jules LEPOUTRE\, professeur\, université Côte d’Azur\, rapporteur\n\n\n\nMme Raphaële PARIZOT\, professeure\, université Paris 1 Panthéon-Sorbonne\, rapporteure
URL:https://icrej.unicaen.fr/evenement/soutenance-de-these-jean-baptiste-contargyris/
LOCATION:Caen · Campus 1 · Bâtiment D · Salle des Actes\, Centre de recherche en sciences de l'éducation\, Esplanade de la Paix\, Caen\, 14000\, France
CATEGORIES:Soutenance
ATTACH;FMTTYPE=image/jpeg:https://icrej.unicaen.fr/wp-content/uploads/sites/21/2023/02/ICREJ_Bandeau_these.jpg
ORGANIZER;CN="Institut caennais de recherche juridique (ICREJ)":MAILTO:droit.recherche@unicaen.fr
END:VEVENT
BEGIN:VEVENT
DTSTART;TZID=Europe/Paris:20260619T092000
DTEND;TZID=Europe/Paris:20260619T170000
DTSTAMP:20260421T215246
CREATED:20251205T130411Z
LAST-MODIFIED:20260413T135730Z
UID:89209-1781860800-1781888400@icrej.unicaen.fr
SUMMARY:L'indemnisation des préjudices dans la sphère professionnelle
DESCRIPTION:Par Amandine Cayol\, professeure des universités et Mathias Couturier\, maître de conférences\, codirecteurs du Master Droit des assurances à l’université de Caen Normandie \n\n\n\nRésumé\n\n\n\nLe master 2 Droit des Assurances\, parcours assurances de personnes et dommage corporel de l’université de Caen Normandie a le plaisir de présenter son colloque annuel intitulé « L’indemnisation des préjudices dans la sphère professionnelle ». \n\n\n\nLa sphère professionnelle soulève de nombreuses interrogations quant à la reconnaissance et à l’indemnisation des préjudices subis par les salariés\, les travailleurs indépendants ou encore les employeurs. Les accidents du travail\, les atteintes à la santé mentale ou encore les pertes de revenus constituent autant de thématiques qui continuent d’alimenter la réflexion doctrinale. \n\n\n\nCe colloque a pour ambition d’éclairer ces enjeux à travers une approche pluridisciplinaire\, alliant perspectives universitaires et pratiques. Enseignants-chercheurs\, magistrats\, avocats\, et professionnels de santé croiseront leurs regards afin d’analyser les évolutions et limites du système actuel d’indemnisation. \n\n\n\nProgramme\n\n\n\nProgramme (pdf · 505 Ko)\n\n\n\nInscription\n\n\n\n\n\nInscription possible jusqu’au vendredi 12 juin 2026 (12h) \n\n\n\n\n\n\nFormation continue : 140 € / personne ou 500 € / groupeBulletin à compléter et à renvoyer sur droit.recherche@unicaen.fr \n\n\n\nAvocat du Barreau de Caen :  60 €\, 70 € ou 100 € / personneBulletin spécifique à compléter et à renvoyer sur droit.recherche@unicaen.fr ainsi qu’au secrétaire de l’Ordre de Avocats \n\n\n\nAuditeur libre : Gratuit (sans délivrance d’attestation de présence) \n\n\n\n\n\n\n\nÉvènement accessible à distance \n\n\n\n\nPour les professionnels (formation continue et avocat) : Contactez le bureau de la recherche après votre inscription pour réceptionner le lien de connexion\n\n\n\nPour les auditeurs libres : Le lien de connexion sera envoyé quelques jours avant l’évènement par mail
URL:https://icrej.unicaen.fr/evenement/lindemnisation-des-prejudices-dans-la-sphere-professionnelle/
LOCATION:Caen · Campus 1 · Bâtiment D · 4e étage · Salle du Belvédère\, Esplanade de la Paix\, Caen\, 14000\, France
CATEGORIES:Congrès - Colloque
ATTACH;FMTTYPE=image/jpeg:https://icrej.unicaen.fr/wp-content/uploads/sites/21/2025/12/2026-06-19_Bandeau-colloque.jpg
ORGANIZER;CN="Institut caennais de recherche juridique (ICREJ)":MAILTO:droit.recherche@unicaen.fr
END:VEVENT
BEGIN:VEVENT
DTSTART;TZID=Europe/Paris:20260619T093000
DTEND;TZID=Europe/Paris:20260619T173000
DTSTAMP:20260421T215246
CREATED:20260312T101014Z
LAST-MODIFIED:20260414T125704Z
UID:89883-1781861400-1781890200@icrej.unicaen.fr
SUMMARY:Le droit français de la concurrence déloyale entre passé et avenir
DESCRIPTION:Sous la direction scientifique de Rafael Amaro\, professeur à l’université de Caen Normandie\, ICREJ et Jean-Christophe Roda\, professeur à l’université Lyon 3 Jean Moulin\, Équipe de recherche Louis Josserand (Équipe de droit privé) \n\n\n\nProgramme\n\n\n\nà venir \n\n\n\nInscription\n\n\n\n\n\nInscription possible jusqu’au vendredi 12 juin 2026 (12h) \n\n\n\n\n\n\nÉvénement accessible à distance \n\n\n\n\nPour les professionnels (formation continue et avocat) : Contactez le bureau de la recherche après votre inscription pour réceptionner le lien de connexion\n\n\n\nPour les auditeurs libres : Le lien de connexion sera envoyé quelques jours avant l’événement par mail\n\n\n\n\n\n\n\nTarifs\n\n\n\n\nFormation continue : 140 € / personne ou 500 € / groupeBulletin à compléter et à renvoyer sur droit.recherche@unicaen.fr\n\n\n\nAvocat du Barreau de Caen : 60 €\, 70 € ou 100 € / personneBulletin spécifique à compléter et à renvoyer sur droit.recherche@unicaen.fr ainsi qu’au secrétaire de l’Ordre de Avocats\n\n\n\nAuditeur libre : gratuit (sans délivrance d’attestation de présence)\n\n\n\n\n\n\nS’inscrire comme auditeur libre au colloque
URL:https://icrej.unicaen.fr/evenement/le-droit-francais-de-la-concurrence-deloyale-entre-passe-et-avenir/
LOCATION:Caen · Campus 1 · Maison de la recherche en sciences humaines (MRSH) · Amphi\, Campus 1\, Maison de la recherche en sciences humaines (MRSH)\, 1 Esplanade de la Paix\, Caen\, 14000\, France
CATEGORIES:Congrès - Colloque
ATTACH;FMTTYPE=image/jpeg:https://icrej.unicaen.fr/wp-content/uploads/sites/21/2026/03/2026-06-19_Bandeau-colloque_AMARO.jpg
END:VEVENT
END:VCALENDAR