BEGIN:VCALENDAR
VERSION:2.0
PRODID:-//ICREJ - Institut caennais de recherche juridique - ECPv6.15.18//NONSGML v1.0//EN
CALSCALE:GREGORIAN
METHOD:PUBLISH
X-WR-CALNAME:ICREJ - Institut caennais de recherche juridique
X-ORIGINAL-URL:https://icrej.unicaen.fr
X-WR-CALDESC:Évènements pour ICREJ - Institut caennais de recherche juridique
REFRESH-INTERVAL;VALUE=DURATION:PT1H
X-Robots-Tag:noindex
X-PUBLISHED-TTL:PT1H
BEGIN:VTIMEZONE
TZID:Europe/Paris
BEGIN:DAYLIGHT
TZOFFSETFROM:+0100
TZOFFSETTO:+0200
TZNAME:CEST
DTSTART:20240331T010000
END:DAYLIGHT
BEGIN:STANDARD
TZOFFSETFROM:+0200
TZOFFSETTO:+0100
TZNAME:CET
DTSTART:20241027T010000
END:STANDARD
BEGIN:DAYLIGHT
TZOFFSETFROM:+0100
TZOFFSETTO:+0200
TZNAME:CEST
DTSTART:20250330T010000
END:DAYLIGHT
BEGIN:STANDARD
TZOFFSETFROM:+0200
TZOFFSETTO:+0100
TZNAME:CET
DTSTART:20251026T010000
END:STANDARD
BEGIN:DAYLIGHT
TZOFFSETFROM:+0100
TZOFFSETTO:+0200
TZNAME:CEST
DTSTART:20260329T010000
END:DAYLIGHT
BEGIN:STANDARD
TZOFFSETFROM:+0200
TZOFFSETTO:+0100
TZNAME:CET
DTSTART:20261025T010000
END:STANDARD
END:VTIMEZONE
BEGIN:VEVENT
DTSTART;TZID=Europe/Paris:20250905T000000
DTEND;TZID=Europe/Paris:20250905T235959
DTSTAMP:20260421T030907
CREATED:20241025T091344Z
LAST-MODIFIED:20250902T085227Z
UID:50864-1757030400-1757116799@icrej.unicaen.fr
SUMMARY:La banque de l'entreprise défaillante
DESCRIPTION:Par Laurence Fin-Langer\, Florent Petit\, professeurs de droit privé et sciences criminelles à l’université de Caen Normandie et Jocelyne Vallansan\, conseillère honoraire à la Cour de cassation \n\n\n\nLe sujet de la banque de l’entreprise défaillante n’est sans doute pas nouveau. Malgré tout\, de nombreuses problématiques juridiques ont été renouvelées à la suite d’évolutions tant législatives que jurisprudentielles.L’ouverture d’une procédure du Livre VI du code de commerce à l’égard d’un client modifie nécessairement ses relations avec sa banque. C’est l’objet de cette manifestation : aborder la banque en sa qualité de créancier mais aussi dans son rôle de partenaire dans la recherche de solutions de traitement de la défaillance.Cette journée permettra d’étudier la place de la banque en matière de conciliation et dans la construction des plans (avec ou sans classes de parties affectées) avant d’envisager la situation de la banque confrontée à la procédure collective d’un débiteur à l’aune de décisions récentes.L’après-midi sera consacrée à la situation particulière de l’entrepreneur individuel et aux questions nouvelles suscitées par la réforme du 14 février 2022 concernant\, d’une part\, l’étendue du droit de gage de la banque sur chacun des patrimoines du débiteur et\, d’autre part\, l’incidence du droit du surendettement sur la situation de l’entrepreneur individuel en difficulté.Ce colloque\, organisé tous les deux ans en alternance avec l’université de Nice\, regroupe les spécialistes reconnus du droit des entreprises en difficulté et du droit bancaire (et du lien entre les deux). Cette manifestation s’adresse notamment aux universitaires\, aux professionnels du droit (magistrats\, avocats\, mandataires judiciaires\, administrateurs judiciaires\, …)\, ainsi qu’aux acteurs du secteur bancaire. \n\n\n\nProgramme\n\n\n\nProgramme (pdf · 398 Ko)Télécharger (pdf · 398 Ko)\n\n\n\nInscription\n\n\n\n\n\nInscription possible jusqu’au vendredi 29 août 2025 à 12h \n\n\n\n\n\n\n\n\n\nÉvénement accessible à distanceContactez le bureau de la recherche après votre inscription (hors auditeur libre) pour réceptionner le lien de connexion (lien envoyé au plus tard le 4 septembre 2025)
URL:https://icrej.unicaen.fr/evenement/la-banque-de-lentreprise-defaillante/
LOCATION:Caen · Campus 1 · Maison de la recherche en sciences humaines (MRSH) · Amphi\, Campus 1\, Maison de la recherche en sciences humaines (MRSH)\, 1 Esplanade de la Paix\, Caen\, 14000\, France
CATEGORIES:Congrès - Colloque
ATTACH;FMTTYPE=image/jpeg:https://icrej.unicaen.fr/wp-content/uploads/sites/21/2024/10/2025-09-05_Colloque.jpg
ORGANIZER;CN="Institut caennais de recherche juridique (ICREJ)":MAILTO:droit.recherche@unicaen.fr
END:VEVENT
BEGIN:VEVENT
DTSTART;TZID=Europe/Paris:20250925T170000
DTEND;TZID=Europe/Paris:20250925T190000
DTSTAMP:20260421T030907
CREATED:20250702T124227Z
LAST-MODIFIED:20250916T120440Z
UID:52578-1758819600-1758826800@icrej.unicaen.fr
SUMMARY:Présentation de l'ouvrage "Exister dans la fragilité"
DESCRIPTION:Discutants : \n\n\n\n\nArmelle Gosselin-Gorand\, Professeur à l’université de Caen Normandie\, Coordinatrice générale et responsable de la Chaire Normandie pour la Paix « Mémoire et avenir de la paix »\n\n\n\nGilles Raoul-Cormeil\, Professeur à l’université de Caen Normandie\, contributeur\n\n\n\n\nPrésentation de l’ouvrage : Franck Peinaud\, Colonel de gendarmerie et coordinateur de l’ouvrage \n\n\n\nInterventions : \n\n\n\n\nPolitique publique contre les violences intrafamiliales : de l’intention à l’action ?\, par Isabelle Dréan-Rivette\, Magistrate\, présidente de la commission recherches auteurs du comité national des violences intrafamiliales\n\n\n\nInnover en matière de prise en compte des risques psycho-traumatiques : retour d’expérience des attaques terroristes du 13 novembre 2015\, par Matthieu Petitclerc\, Psychologue\, chef de la section médico-psychologique de la Brigade de Sapeurs-Pompiers de Paris\n\n\n\nDe l’interactions entre les hommes et les robots : le langage\, simulacres et vulnérabilités\, par Laurence Vanin\, Philosophe et essayiste\, chef du bureau des chaires et du mécénat au centre de recherche de la gendarmerie nationale\n\n\n\n\n\n\n\n\n\nInscription ouverte jusqu’au mardi 23 septembre 2025 \n\n\n\n\n\nDescription de l’ouvrage\nDans un monde soumis à des crises systémiques\, aux tensions sociales et aux incertitudes persistantes\, la fragilité humaine ne saurait être perçue comme un simple déficit ou une faiblesse honteuse. Elle constitue\, au contraire\, le noyau sensible de nos existences individuelles comme collectives. Exister dans la fragilité propose de réhabiliter cette condition universelle\, en la pensant non comme une faille à réparer\, mais comme une richesse à comprendre\, une force à révéler. \n\n\n\nCet ouvrage explore les expériences intimes de la vulnérabilité : traumatismes psychiques\, burn-out\, addictions\, fin de vie\, ou encore nos rapports ambivalents aux technologies. Il s’attache à mettre au jour les tensions profondes qui traversent les institutions sanitaires et médico-sociales. Il propose une approche historique et contemporaine des solidarités à l’épreuve des crises\, et esquisse des pistes d’innovation sociale\, institutionnelle et humaine.  \n\n\n\nUn livre nécessaire. Pour faire de la fragilité un levier d’action\, une voie de résilience\, un horizon d’humanité. \n\n\n\n\n\nÉditeur : Les éditions Ovadia   \n\n\n\n\nPrésentation des intervenants\n\n\n\n\nSaint-Cyrien\, le colonel Franck Peinaud est breveté de l’École de Guerre et Docteur en histoire moderne et contemporaine. Il sert actuellement au Centre de Recherche de la Gendarmerie Nationale (CRGN). Il est responsable des partenariats de l’ONG suisse de santé mentale MIM (Multilingual International Mediators)  \n\n\n\n\n\nJuriste de formation\, Isabelle Dréan-Rivette est diplômée en sciences humaines (clinique criminologique/victimologique et psychopathologique) et titulaire d’un doctorat en droit pénal et sciences criminelles. \n\n\n\nAvocate en France et au Canada puis magistrate (en juridiction\, administration centrale et cabinet ministériel) son expertise internationale du monde juridique et judiciaire s’est traduite par trois ouvrages relatifs à la gouvernance pénale. \n\n\n\nPrésidente de la Commission recherches auteurs du Conseil National des Violences IntraFamiliales (CNVIF) depuis 2020. Depuis 2024 elle est également membre de la Chaire Humanités Numériques du Centre de Recherche de la Gendarmerie Nationale (CRGN) et du collège d’experts de la Commission de l’enrichissement de la Langue Française. \n\n\n\n\n\nMatthieu Petitclerc est docteur en psychologie clinique et chef de la section médico-psychologique de la Brigade de Sapeurs-Pompiers de Paris (BSPP). Il participe aux actions de prévention et de soin en santé mentale des 8 500 sapeurs-pompiers de Paris engagés sur la capitale et les 3 départements limitrophes. Il est également l’investigateur de l’étude ESPOIR (Étude Sapeurs-Pompiers Opération 13/11/15 Impact et Résilience). \n\n\n\n\n\nLaurence Vanin dirige le collège scientifique « Philosophie\, Ethique et Épistémologie de l’expérience » de la chaire Humanités Numériques du CRGN. Elle est chef du bureau des Chaires et du mécénat du CRGN. Elle a créé et dirigé la chaire Smart City : Philosophie et Ethique de 2018 à 2023 à l’université Côte d’Azur. Docteur en philosophie politique et épistémologie et Habilitée à diriger les recherches en Epistémologie et histoire des sciences. Expert de l’Institut Europ’I.A (Sophia Antipolis). Expert Safe Cluster. (Aix en Provence). Elle est spécialiste des villes et territoires innovants. \n\n\n\nEn savoir plus\nRéserviste Citoyen de la Gendarmerie Nationale avec le grade de Lieutenant-Colonel. Elle est rattachée au service de la « Transformation » (Direction Générale de la Gendarmerie Nationale). Elle travaille sur les questions de Smart Territoire et Smart City\, l’Innovation Responsable\, l’Ethique et l’Acceptabilité et notamment sur l’Interopérabilité des systèmes\, les nouvelles gouvernances et propose une autre lecture des grands enjeux liés aux nouvelles technologies et aux risques associés\, une éthique des relations aux IoT et robots et interactions avec des objets autonomes\, etc. Philosophe\, Ethicienne\, Essayiste et directrice de collections (« Philosophie et Ethique de la Smart City »\, « Label-Idées »\, « Chemins de pensées »\, « Chemin de pensées juridiques ») aux Editions Ovadia. Elle a publié plus d’une vingtaine d’ouvrages dont « L’âme sereine : la vulnérabilité heureuse » « Et Narcisse a pleuré ! Les interfaces dévisagées » et a enregistré son cours en un coffret de 3 CD aux Editions Frémeaux & Associés « Exister dans la fragilité – Vers une philosophie de la résilience. ». \n\n\n\n\nSon site : www.laurencevanin.fr
URL:https://icrej.unicaen.fr/evenement/presentation-de-louvrage-exister-dans-la-fragilite/
LOCATION:Caen · Campus 1 · Bâtiment D · Amphi Nicolas Oresme\, Centre de recherche en sciences de l'éducation\, Esplanade de la Paix\, Caen\, 14000\, France
CATEGORIES:Conférence recherche
ATTACH;FMTTYPE=image/jpeg:https://icrej.unicaen.fr/wp-content/uploads/sites/21/2025/06/2025-09-25_Conference.jpg
ORGANIZER;CN="Institut caennais de recherche juridique (ICREJ)":MAILTO:droit.recherche@unicaen.fr
END:VEVENT
BEGIN:VEVENT
DTSTART;TZID=Europe/Paris:20250926T120000
DTEND;TZID=Europe/Paris:20250926T140000
DTSTAMP:20260421T030907
CREATED:20250711T112937Z
LAST-MODIFIED:20250827T102906Z
UID:52705-1758888000-1758895200@icrej.unicaen.fr
SUMMARY:Conférence sur l'avis consultatif de la Cour internationale de justice sur l'incidence du changement climatique sur le droit international
DESCRIPTION:Par Catherine-Amélie Chassin\, professeur de droit public à l’université de Caen Normandie \n\n\n\n\nInscription
URL:https://icrej.unicaen.fr/evenement/avis-consultatif-cour-internationale-de-justice-sur-lincidence-du-changement-climatique-droit-international/
LOCATION:Caen · Campus 1 · Bâtiment D · 4e étage · Salle du Belvédère\, Esplanade de la Paix\, Caen\, 14000\, France
CATEGORIES:Conférence d'actualité
ATTACH;FMTTYPE=image/jpeg:https://icrej.unicaen.fr/wp-content/uploads/sites/21/2024/07/2025-2026_ConferencesActu.jpg
END:VEVENT
END:VCALENDAR