BEGIN:VCALENDAR
VERSION:2.0
PRODID:-//ICREJ - Institut caennais de recherche juridique - ECPv6.15.18//NONSGML v1.0//EN
CALSCALE:GREGORIAN
METHOD:PUBLISH
X-WR-CALNAME:ICREJ - Institut caennais de recherche juridique
X-ORIGINAL-URL:https://icrej.unicaen.fr
X-WR-CALDESC:Évènements pour ICREJ - Institut caennais de recherche juridique
REFRESH-INTERVAL;VALUE=DURATION:PT1H
X-Robots-Tag:noindex
X-PUBLISHED-TTL:PT1H
BEGIN:VTIMEZONE
TZID:Europe/Paris
BEGIN:DAYLIGHT
TZOFFSETFROM:+0100
TZOFFSETTO:+0200
TZNAME:CEST
DTSTART:20240331T010000
END:DAYLIGHT
BEGIN:STANDARD
TZOFFSETFROM:+0200
TZOFFSETTO:+0100
TZNAME:CET
DTSTART:20241027T010000
END:STANDARD
BEGIN:DAYLIGHT
TZOFFSETFROM:+0100
TZOFFSETTO:+0200
TZNAME:CEST
DTSTART:20250330T010000
END:DAYLIGHT
BEGIN:STANDARD
TZOFFSETFROM:+0200
TZOFFSETTO:+0100
TZNAME:CET
DTSTART:20251026T010000
END:STANDARD
BEGIN:DAYLIGHT
TZOFFSETFROM:+0100
TZOFFSETTO:+0200
TZNAME:CEST
DTSTART:20260329T010000
END:DAYLIGHT
BEGIN:STANDARD
TZOFFSETFROM:+0200
TZOFFSETTO:+0100
TZNAME:CET
DTSTART:20261025T010000
END:STANDARD
END:VTIMEZONE
BEGIN:VEVENT
DTSTART;TZID=Europe/Paris:20250506T180000
DTEND;TZID=Europe/Paris:20250506T200000
DTSTAMP:20260419T193034
CREATED:20241105T155007Z
LAST-MODIFIED:20260212T090512Z
UID:50431-1746554400-1746561600@icrej.unicaen.fr
SUMMARY:L'indemnisation des violences intra-familiales : comparaison France-Québec
DESCRIPTION:Par Daniel Gardner\, professeur de droit à l’Université Laval (Québec) \n\n\n\n\nDiscutants :\n\n\n\nAmandine Cayol\, maître de conférences HDR en droit privé et sciences criminelles et Mathias Couturier\, maîtres de conférences en droit privé et sciences criminelles et codirecteurs du Master Droit Assurances à l’université de Caen Normandie \n\n\n\n\nRésumé\n\n\n\nComparaison des systèmes français et québécois concernant l’indemnisation des dommages corporels résultant de violences intra-familiales en France et au Québec. \n\n\n\nL’événement est passé\, les inscriptions sont closes.
URL:https://icrej.unicaen.fr/evenement/indemnisation-violences-intrafamiliales-france-quebec/
LOCATION:Caen · Campus 1 · Bâtiment D · 4e étage · Salle du Belvédère\, Esplanade de la Paix\, Caen\, 14000\, France
CATEGORIES:Conférence recherche
ATTACH;FMTTYPE=image/jpeg:https://icrej.unicaen.fr/wp-content/uploads/sites/21/2024/11/2025-05-06_Violence_intrafamiliale.jpg
END:VEVENT
BEGIN:VEVENT
DTSTART;TZID=Europe/Paris:20250512T170000
DTEND;TZID=Europe/Paris:20250512T190000
DTSTAMP:20260419T193034
CREATED:20250311T101929Z
LAST-MODIFIED:20250321T102658Z
UID:52017-1747069200-1747076400@icrej.unicaen.fr
SUMMARY:Actualité des réseaux sociaux - Présentation l'ouvrage "États et réseaux sociaux"
DESCRIPTION:« Actualité des réseaux sociaux » – Conférence de présentation par Valère Ndior et Emmanuel Netter de leur ouvrage « États et réseaux sociaux » \n\n\n\nPar Valère Ndior\, professeur de droit public à l’université de Brest (Lab-LEX) et membre de l’Institut universitaire de France et Emmanuel Netter\, professeur de droit privé à l’université de Strasbourg (CDPF) \n\n\n\nOrganisateur et discutant : Thibault Douville\, professeur de droit privé et sciences criminelles et codirecteur de l’ICREJ à l’université Caen Normandie \n\n\n\n\n\n\n\nInscription ouverte jusqu’au dimanche 11 mai 2025\, 23h59 \n\n\n\n\n\nDescription de l’ouvrage\n\n\n\nAutrefois simples outils de communication\, les réseaux sociaux sont aujourd’hui des acteurs mondiaux incontournables.En fonction des événements et des contextes géopolitiques\, ils sont tantôt perçus comme des partenaires précieux pour les États\, notamment dans l’exercice de leurs fonctions régaliennes\, tantôt comme des menaces potentielles pour les démocraties. Leur pouvoir sur la diffusion de l’information\, qu’elle provienne de figures influentes ou d’anonymes\, est sans précédent.Que peuvent et que doivent faire les réseaux sociaux en matière de contrôle des discours qui y circulent ? Quand faut-il les contraindre à sortir d’une passivité confortable ? Quand faut-il au contraire les empêcher d’exercer leur contrôle\, parfois opaque\, sur la communication humaine ? Telles sont les principales interrogations qui parcourent cet ouvrage et qui obligent les États à inventer une relation adaptée avec ces acteurs privés aux dimensions stupéfiantes. S’appuyant sur des cas français et étrangers\, cet ouvrage analyse de façon inédite les rapports\, juridiques ou non\, qui se tissent entre les États et les réseaux sociaux. Il est destiné à un large lectorat\, au-delà de la seule sphère du droit.
URL:https://icrej.unicaen.fr/evenement/actualite-reseaux-sociaux-ouvrage-etats-et-reseaux-sociaux/
LOCATION:Caen · Campus 1 · Bâtiment D · Salle des Actes\, Centre de recherche en sciences de l'éducation\, Esplanade de la Paix\, Caen\, 14000\, France
CATEGORIES:Conférence recherche
ATTACH;FMTTYPE=image/jpeg:https://icrej.unicaen.fr/wp-content/uploads/sites/21/2025/03/2025-05-12_conf_ouvrage.jpg
ORGANIZER;CN="Institut caennais de recherche juridique (ICREJ)":MAILTO:droit.recherche@unicaen.fr
END:VEVENT
BEGIN:VEVENT
DTSTART;TZID=Europe/Paris:20250516T120000
DTEND;TZID=Europe/Paris:20250516T140000
DTSTAMP:20260419T193034
CREATED:20240612T145621Z
LAST-MODIFIED:20260212T090512Z
UID:49879-1747396800-1747404000@icrej.unicaen.fr
SUMMARY:Actualité du droit électoral
DESCRIPTION:Par Théo Scherer\, maître de conférences en droit privé et Léonora Janane\, doctorante en droit public\, Université de Caen Normandie \n\n\n\nL’événement est passé\, les inscriptions sont closes.
URL:https://icrej.unicaen.fr/evenement/droit-electoral-2025/
LOCATION:Caen · Campus 1 · Bâtiment D · 4e étage · Salle du Belvédère\, Esplanade de la Paix\, Caen\, 14000\, France
CATEGORIES:Conférence d'actualité
ATTACH;FMTTYPE=image/jpeg:https://icrej.unicaen.fr/wp-content/uploads/sites/21/2024/06/2025-05-15_Conf_Electoral.jpg
END:VEVENT
BEGIN:VEVENT
DTSTART;TZID=Europe/Paris:20250519T170000
DTEND;TZID=Europe/Paris:20250519T190000
DTSTAMP:20260419T193034
CREATED:20250428T142458Z
LAST-MODIFIED:20250507T130422Z
UID:52354-1747674000-1747681200@icrej.unicaen.fr
SUMMARY:L’IVG\, 50 ans après la loi Veil
DESCRIPTION:Une loi mémorielle pour réhabiliter les femmes condamnées pour avoir avorté illégalement. \n\n\n\nLes étudiants de la Clinique juridique de Normandie ont travaillé au cours de cette année universitaire sur la mise en place d’une commission vérité pour les victimes de la pénalisation de l’IVG à la demande de la Fondation des femmes. Madame la Sénatrice Laurence Rossignol a repris cette idée dans une proposition de loi actuellement en cours de discussion au Parlement. \n\n\n\nLa conférence-débats du 19 mai sera l’occasion de croiser les regards\, de manière pluridisciplinaire\, sur ce sujet d’actualité\, en présence de mesdames : Laurence Rossignol\, Sénatrice du Val de Marne ; Floriane Volt\, directrice des affaires publiques et juridiques\, Fondation des femmes ; Isabelle Asselin\, gynécologue\, présidente de l’Association universitaire de recherche\, d’enseignement\, d’information pour la promotion de la santé sexuelle et Eleonora Bottini\, Professeur de droit public\, Université Caen-Normandie. \n\n\n\nÉvénement organisé l’ICREJ et le pôle Risques de la MRSH \n\n\n\nResponsables scientifiques : Maria Castillo et Amandine Cayol   \n\n\n\nOuvert à tous. Sur inscription gratuite. \n\n\n\n\n\nIVG-50ans ()Télécharger ()
URL:https://icrej.unicaen.fr/evenement/livg-50-ans-apres-la-loi-veil/
LOCATION:Caen · Campus 1 · Maison de la recherche en sciences humaines (MRSH) · Amphi\, Campus 1\, Maison de la recherche en sciences humaines (MRSH)\, 1 Esplanade de la Paix\, Caen\, 14000\, France
CATEGORIES:Conférence
ATTACH;FMTTYPE=image/jpeg:https://icrej.unicaen.fr/wp-content/uploads/sites/21/2025/05/visuel-1.jpg
END:VEVENT
BEGIN:VEVENT
DTSTART;TZID=Europe/Paris:20250520T170000
DTEND;TZID=Europe/Paris:20250520T190000
DTSTAMP:20260419T193034
CREATED:20250306T102628Z
LAST-MODIFIED:20250519T101700Z
UID:52009-1747760400-1747767600@icrej.unicaen.fr
SUMMARY:Présentation de l’ouvrage "Le sexe de l’impôt\,l’impact de la fiscalité sur l’égalité entre les femmes et les hommes" - Lise Chatain
DESCRIPTION:Par Lise Chatain\, auteure de l’ouvrage et professeure de droit privé et sciences criminelles à l’université de Bourgogne \n\n\n\nOrganisateurs et discutants : Jean-Christophe Pagnucco\, professeur de droit privé et sciences criminelles à l’université Caen Normandie et Thibault Douville\, professeur de droit privé et sciences criminelles et codirecteur de l’ICREJ à l’université Caen Normandie \n\n\n\n\n\nDescription de l’ouvrage\n\n\n\nL’impôt a-t-il un sexe ? Les règles fiscales\, a priori présentées et appliquées de façon neutre et universelle\, sont-elles réellement à l’abri des biais de genre ? \n\n\n\nDerrière une apparente objectivité\, les règles fiscales peuvent dissimuler des mécanismes qui perpétuent ou aggravent les inégalités entre les sexes. \n\n\n\nDans Le sexe de l’impôt : l’impact de la fiscalité sur l’égalité entre les femmes et les hommes\, Lise Chatain dévoile les angles morts de la fiscalité contemporaine. Elle explore les commentaires des dispositions fiscales apparemment anodines qui influencent la répartition des rôles entre les femmes et les hommes\, et analyse les impacts profonds des politiques fiscales sur la vie quotidienne. \n\n\n\nCet ouvrage\, à la fois audacieux et rigoureux\, propose une lecture inédite et engagée du droit fiscal. En mêlant théorie et études de cas\, il interroge les fondements mêmes de la justice fiscale. Peut-on repenser l’impôt pour en faire un levier d’égalité ? \n\n\n\nDestiné aux professionnels du droit\, aux économistes\, aux sociologues et à tous ceux qui s’intéressent aux questions de justice sociale\, ce livre à l’angle inédit ouvre un débat crucial sur le rôle de la fiscalité dans la construction d’une société plus équitable.
URL:https://icrej.unicaen.fr/evenement/presentation-sexe-de-limpot/
LOCATION:Caen · Campus 1 · Bâtiment D · Amphi Nicolas Oresme\, Centre de recherche en sciences de l'éducation\, Esplanade de la Paix\, Caen\, 14000\, France
CATEGORIES:Conférence recherche
ATTACH;FMTTYPE=image/jpeg:https://icrej.unicaen.fr/wp-content/uploads/sites/21/2025/03/2025-05-20_conf_ouvrage.jpg
ORGANIZER;CN="Institut caennais de recherche juridique (ICREJ)":MAILTO:droit.recherche@unicaen.fr
END:VEVENT
BEGIN:VEVENT
DTSTART;TZID=Europe/Paris:20250522T000000
DTEND;TZID=Europe/Paris:20250522T235959
DTSTAMP:20260419T193034
CREATED:20250314T135745Z
LAST-MODIFIED:20260212T090900Z
UID:52097-1747872000-1747958399@icrej.unicaen.fr
SUMMARY:Les robots autonomes : quel encadrement juridique et éthique ?
DESCRIPTION:Par Amandine Cayol et Maria Castillo\, codirectrices de la Clinique juridique de Normandie \n\n\n\nDans la continuité du procès fictif réalisé par les étudiants de la Clinique juridique de Normandie le 14 mars 2025\, ce colloque propose de croiser les regards de chercheurs de différentes spécialités concernant l’encadrement juridique et éthique du développement de robots et de systèmes d’intelligence artificielle de plus en plus sophistiqués\, notamment d’armes autonomes.  \n\n\n\nProgramme\n\n\n\nProgramme (pdf · 420 Ko)Télécharger (pdf · 420 Ko)
URL:https://icrej.unicaen.fr/evenement/les-robots-autonomes-quel-encadrement-juridique-et-ethique/
LOCATION:Caen · Campus 1 · Bâtiment D · Amphi Nicolas Oresme\, Centre de recherche en sciences de l'éducation\, Esplanade de la Paix\, Caen\, 14000\, France
CATEGORIES:Congrès - Colloque
ATTACH;FMTTYPE=image/jpeg:https://icrej.unicaen.fr/wp-content/uploads/sites/21/2025/01/2025_Fete-Droit_Proces.jpg
ORGANIZER;CN="Institut caennais de recherche juridique (ICREJ)":MAILTO:droit.recherche@unicaen.fr
END:VEVENT
BEGIN:VEVENT
DTSTART;TZID=Europe/Paris:20250523T000000
DTEND;TZID=Europe/Paris:20250523T235959
DTSTAMP:20260419T193034
CREATED:20241025T090502Z
LAST-MODIFIED:20260212T090740Z
UID:50857-1747958400-1748044799@icrej.unicaen.fr
SUMMARY:Le refus en droit
DESCRIPTION:Première édition du colloque Jeunes chercheurs de l’Institut caennais de recherche juridique organisée par Manon Decaux\, docteure en droit public\, Camille Jussiaux\, docteure en droit privé et sciences criminelles\, et Morgan Pénitot\, doctorant en droit public à l’université de Caen Normandie. \n\n\n\nProgramme\n\n\n\nProgramme (pdf · 334 Ko)Télécharger (pdf · 334 Ko)
URL:https://icrej.unicaen.fr/evenement/le-refus-en-droit/
LOCATION:Caen · Campus 1 · Bâtiment D · Amphi Jean Demolombe\, Centre de recherche en sciences de l'éducation\, Esplanade de la Paix\, Caen\, 14000\, France
CATEGORIES:Congrès - Colloque
ATTACH;FMTTYPE=image/jpeg:https://icrej.unicaen.fr/wp-content/uploads/sites/21/2024/10/2025-05-23_Colq_Le-refus-droit.jpg
ORGANIZER;CN="Institut caennais de recherche juridique (ICREJ)":MAILTO:droit.recherche@unicaen.fr
END:VEVENT
END:VCALENDAR