BEGIN:VCALENDAR
VERSION:2.0
PRODID:-//ICREJ - Institut caennais de recherche juridique - ECPv6.15.18//NONSGML v1.0//EN
CALSCALE:GREGORIAN
METHOD:PUBLISH
X-WR-CALNAME:ICREJ - Institut caennais de recherche juridique
X-ORIGINAL-URL:https://icrej.unicaen.fr
X-WR-CALDESC:Évènements pour ICREJ - Institut caennais de recherche juridique
REFRESH-INTERVAL;VALUE=DURATION:PT1H
X-Robots-Tag:noindex
X-PUBLISHED-TTL:PT1H
BEGIN:VTIMEZONE
TZID:Europe/Paris
BEGIN:DAYLIGHT
TZOFFSETFROM:+0100
TZOFFSETTO:+0200
TZNAME:CEST
DTSTART:20230326T010000
END:DAYLIGHT
BEGIN:STANDARD
TZOFFSETFROM:+0200
TZOFFSETTO:+0100
TZNAME:CET
DTSTART:20231029T010000
END:STANDARD
BEGIN:DAYLIGHT
TZOFFSETFROM:+0100
TZOFFSETTO:+0200
TZNAME:CEST
DTSTART:20240331T010000
END:DAYLIGHT
BEGIN:STANDARD
TZOFFSETFROM:+0200
TZOFFSETTO:+0100
TZNAME:CET
DTSTART:20241027T010000
END:STANDARD
BEGIN:DAYLIGHT
TZOFFSETFROM:+0100
TZOFFSETTO:+0200
TZNAME:CEST
DTSTART:20250330T010000
END:DAYLIGHT
BEGIN:STANDARD
TZOFFSETFROM:+0200
TZOFFSETTO:+0100
TZNAME:CET
DTSTART:20251026T010000
END:STANDARD
END:VTIMEZONE
BEGIN:VEVENT
DTSTART;TZID=Europe/Paris:20240903T140000
DTEND;TZID=Europe/Paris:20240903T160000
DTSTAMP:20260422T011948
CREATED:20240705T122705Z
LAST-MODIFIED:20250228T143218Z
UID:50032-1725372000-1725379200@icrej.unicaen.fr
SUMMARY:Intelligence artificielle générative et professions du droit
DESCRIPTION:Par Thomas Saint-Aubin\, Co-fondateur de Seraphin.legal et Directeur de l’Innovation de MyLegiTech \n\n\n\nPrésentation et discussion : Thibault Douville\, agrégé de droit privé\, professeur des universités\, directeur du master droit du numérique \n\n\n\n\n\nL’événement est passé\, les inscriptions sont closes.
URL:https://icrej.unicaen.fr/evenement/intelligence-artificielle-generative-et-professions-du-droit/
LOCATION:Caen · Campus 1 · Bâtiment D · 4e étage · Salle du Belvédère\, Esplanade de la Paix\, Caen\, 14000\, France
CATEGORIES:Conférence d'actualité
ATTACH;FMTTYPE=image/jpeg:https://icrej.unicaen.fr/wp-content/uploads/sites/21/2024/07/2024-09-03_Conf_IA.jpg
END:VEVENT
BEGIN:VEVENT
DTSTART;TZID=Europe/Paris:20240906T120000
DTEND;TZID=Europe/Paris:20240906T140000
DTSTAMP:20260422T011948
CREATED:20240705T122700Z
LAST-MODIFIED:20250228T142438Z
UID:49860-1725624000-1725631200@icrej.unicaen.fr
SUMMARY:Actualité en droit de l'intelligence artificielle
DESCRIPTION:Par Thibault Douville\, agrégé de droit privé\, professeur des universités\, directeur du master droit du numérique\, université de Caen Normandie \n\n\n\nThématiques abordées lors de cette conférence :\n\n\n\n\nL’encadrement de la prise de décision exclusivement automatisée (notes de solvabilité – CJUE\, 7 décembre 2023\, Schufa)\n\n\n\nPrésentation sélective du règlement européen sur l’Intelligence artificielle\n\n\n\nPrésentation critique des Fiches pratiques de la CNIL sur l’IA (avril 2024)\n\n\n\n\n\n\nL’événement est passé\, les inscriptions sont closes.
URL:https://icrej.unicaen.fr/evenement/actualite-en-droit-de-lintelligence-artificielle/
LOCATION:Caen · Campus 1 · Bâtiment D · 4e étage · Salle du Belvédère\, Esplanade de la Paix\, Caen\, 14000\, France
CATEGORIES:Conférence d'actualité
ATTACH;FMTTYPE=image/jpeg:https://icrej.unicaen.fr/wp-content/uploads/sites/21/2024/06/2024-09-06_Conf_IA.jpg
END:VEVENT
END:VCALENDAR