BEGIN:VCALENDAR
VERSION:2.0
PRODID:-//ICREJ - Institut caennais de recherche juridique - ECPv6.15.18//NONSGML v1.0//EN
CALSCALE:GREGORIAN
METHOD:PUBLISH
X-WR-CALNAME:ICREJ - Institut caennais de recherche juridique
X-ORIGINAL-URL:https://icrej.unicaen.fr
X-WR-CALDESC:Évènements pour ICREJ - Institut caennais de recherche juridique
REFRESH-INTERVAL;VALUE=DURATION:PT1H
X-Robots-Tag:noindex
X-PUBLISHED-TTL:PT1H
BEGIN:VTIMEZONE
TZID:Europe/Paris
BEGIN:DAYLIGHT
TZOFFSETFROM:+0100
TZOFFSETTO:+0200
TZNAME:CEST
DTSTART:20210328T010000
END:DAYLIGHT
BEGIN:STANDARD
TZOFFSETFROM:+0200
TZOFFSETTO:+0100
TZNAME:CET
DTSTART:20211031T010000
END:STANDARD
BEGIN:DAYLIGHT
TZOFFSETFROM:+0100
TZOFFSETTO:+0200
TZNAME:CEST
DTSTART:20220327T010000
END:DAYLIGHT
BEGIN:STANDARD
TZOFFSETFROM:+0200
TZOFFSETTO:+0100
TZNAME:CET
DTSTART:20221030T010000
END:STANDARD
BEGIN:DAYLIGHT
TZOFFSETFROM:+0100
TZOFFSETTO:+0200
TZNAME:CEST
DTSTART:20230326T010000
END:DAYLIGHT
BEGIN:STANDARD
TZOFFSETFROM:+0200
TZOFFSETTO:+0100
TZNAME:CET
DTSTART:20231029T010000
END:STANDARD
END:VTIMEZONE
BEGIN:VEVENT
DTSTART;TZID=Europe/Paris:20220525T143000
DTEND;TZID=Europe/Paris:20220525T173000
DTSTAMP:20260420T061112
CREATED:20220602T135310Z
LAST-MODIFIED:20230630T131150Z
UID:3958-1653489000-1653499800@icrej.unicaen.fr
SUMMARY:Journée des thèses de l'ICREJ
DESCRIPTION:L’Institut caennais de recherche juridique vous propose une discussion autour des travaux des doctorants et jeunes docteurs de l’Institut. \nProgramme\nJustice politique\, justice transitionnelle : quel cadre théorique pour les procès des gouvernants du régime fasciste italien et de l’État français ?\npar Jean-Baptiste CONTARGYRIS\nSujet de thèse : « Juger les gouvernants en France et en Italie à la Libération »\nThèse dirigée par : Eleonora BOTTINI et Olivier BEAUD (professeur à l’université Paris 2)\nEn cours depuis le 1er octobre 2019 \nL’émergence d’un contrôle vacillant des ministres\, des administrations et des entreprises publiques.\nMohamed DAMBABA\nSujet de thèse : « Le contrôle parlementaire de l’action gouvernementale en Afrique : cas du Bénin\, du Sénégal et du Togo »\nThèse dirigée par : Pierre MOUZET (université de Tours)\nEn cours depuis le 25 novembre 2015 \nL’analyse du cyber-risque à la lumière du droit des assurances\nSarah PORCHER\nSujet de thèse : « L’assurance du cyber-risque »\nThèse dirigée par : Thibault DOUVILLE et Pierre-Grégoire MARLY (Université du Mans)\nEn cours depuis le 10 septembre 2019 \nLe présidentialisme : étude de droit constitutionnel comparé France/Turquie\nAysegul FISTIKCI\nSujet de thèse : « Le présidentialisme : étude de droit constitutionnel comparé France/Turquie »\nDirigée par : Élodie SAILLANT-MARAGHNI\nSoutenue le 7 décembre 2021 \nEssai sur la protection du travailleur numérique par les droits fondamentaux\nFanny GABROY\nSujet de thèse : « Essai sur la protection du travailleur numérique par les droits fondamentaux »\nThèse dirigée par : Laurence FIN-LANGER\nSoutenue le 8 avril 2022
URL:https://icrej.unicaen.fr/evenement/journee-des-theses-de-licrej/
LOCATION:Caen · Campus 1 · Bâtiment D · 4e étage · Salle du Belvédère\, Centre de recherche en sciences de l'éducation\, Esplanade de la Paix\, Caen\, 14000\, France
CATEGORIES:Conférence
ATTACH;FMTTYPE=image/jpeg:https://icrej.unicaen.fr/wp-content/uploads/sites/21/2022/06/journee-theses-visuel.jpg
END:VEVENT
END:VCALENDAR