BEGIN:VCALENDAR
VERSION:2.0
PRODID:-//ICREJ - Institut caennais de recherche juridique - ECPv6.15.18//NONSGML v1.0//EN
CALSCALE:GREGORIAN
METHOD:PUBLISH
X-WR-CALNAME:ICREJ - Institut caennais de recherche juridique
X-ORIGINAL-URL:https://icrej.unicaen.fr
X-WR-CALDESC:Évènements pour ICREJ - Institut caennais de recherche juridique
REFRESH-INTERVAL;VALUE=DURATION:PT1H
X-Robots-Tag:noindex
X-PUBLISHED-TTL:PT1H
BEGIN:VTIMEZONE
TZID:Europe/Paris
BEGIN:DAYLIGHT
TZOFFSETFROM:+0100
TZOFFSETTO:+0200
TZNAME:CEST
DTSTART:20210328T010000
END:DAYLIGHT
BEGIN:STANDARD
TZOFFSETFROM:+0200
TZOFFSETTO:+0100
TZNAME:CET
DTSTART:20211031T010000
END:STANDARD
BEGIN:DAYLIGHT
TZOFFSETFROM:+0100
TZOFFSETTO:+0200
TZNAME:CEST
DTSTART:20220327T010000
END:DAYLIGHT
BEGIN:STANDARD
TZOFFSETFROM:+0200
TZOFFSETTO:+0100
TZNAME:CET
DTSTART:20221030T010000
END:STANDARD
BEGIN:DAYLIGHT
TZOFFSETFROM:+0100
TZOFFSETTO:+0200
TZNAME:CEST
DTSTART:20230326T010000
END:DAYLIGHT
BEGIN:STANDARD
TZOFFSETFROM:+0200
TZOFFSETTO:+0100
TZNAME:CET
DTSTART:20231029T010000
END:STANDARD
END:VTIMEZONE
BEGIN:VEVENT
DTSTART;TZID=Europe/Paris:20220408T093000
DTEND;TZID=Europe/Paris:20220408T123000
DTSTAMP:20260421T123952
CREATED:20220301T155501Z
LAST-MODIFIED:20240307T124740Z
UID:4123-1649410200-1649421000@icrej.unicaen.fr
SUMMARY:Actualité juridique de la protection juridique des majeurs
DESCRIPTION:L’actualité du droit des majeurs protégés nous offre d’abord un nouveau concept : la mesure de protection juridique avec représentation (relative) à la personne. Introduite 45 fois par l’ordonnance n°2020-232 du 11 mars 2020 relative au régime des décisions prises en matière de santé\, de prise en charge ou d’accompagnement social ou médico-social à l’égard des personnes majeures faisant l’objet d’une mesure de protection juridique\, cette notion a été reprise 21 fois par la loi n°2021-1017 du 2 août 2021 sur la bioéthique. \nSi l’objectif initial est noble\, favoriser l’autonomie de la personne protégée et harmoniser les codes spécialisés avec le Code civil\, réformé par la loi du 5 mars 2007\, il n’est pas certain que cette notion soit comprise et permette facilement d’identifier les majeurs protégés et le rôle du mandataire professionnel. L’actualité du droit des majeurs protégés est ensuite jurisprudentielle et nous invite\, par exemple\, à expliquer ce qui est attendu désormais d’un tuteur ad hoc lorsqu’il doit consentir à une donation au nom du majeur protégé\, en qualité de donateur (Cass.\, 1e civ.\, avis\, 15 déc. 2021\, n°21-70.022). \nEnfin\, la question du majeur protégé face à la justice pénale sera traitée avec méthode pour créer les conditions d’une discussion parmi les mandataires professionnels. Chacun sait que la loi du 5 mars 2007 a introduit pour la première fois dans le code de procédure pénale des dispositions propres à la poursuite\, à l’instruction et au jugement des infractions commises par des majeurs protégés. Trop timide\, voire insuffisante\, la loi découvre à l’usage des lacunes qui sont peu à peu comblées\, sous l’influence du Conseil constitutionnel et de la Cour de cassation. Cette question fera l’objet d’un acte 2\, dans un colloque faisant dialoguer\, le 7 avril 2023\, les magistrats de l’ordre judiciaire\, les officiers de police judiciaire et les MJPM. \nProgramme
URL:https://icrej.unicaen.fr/evenement/actualite-juridique-de-la-protection-juridique-des-majeurs/
LOCATION:Caen · Campus 1 · Bâtiment P · Amphi Pierre Daure\, Amphithéâtre Pierre Daure\, Esplanade de la Paix\, Caen\, 14000\, France
CATEGORIES:Congrès - Colloque
ATTACH;FMTTYPE=image/jpeg:https://icrej.unicaen.fr/wp-content/uploads/sites/21/2022/06/protection-juridique.jpg
ORGANIZER;CN="Institut caennais de recherche juridique (ICREJ)":MAILTO:droit.recherche@unicaen.fr
END:VEVENT
END:VCALENDAR