BEGIN:VCALENDAR
VERSION:2.0
PRODID:-//ICREJ - Institut caennais de recherche juridique - ECPv6.15.18//NONSGML v1.0//EN
CALSCALE:GREGORIAN
METHOD:PUBLISH
X-WR-CALNAME:ICREJ - Institut caennais de recherche juridique
X-ORIGINAL-URL:https://icrej.unicaen.fr
X-WR-CALDESC:Évènements pour ICREJ - Institut caennais de recherche juridique
REFRESH-INTERVAL;VALUE=DURATION:PT1H
X-Robots-Tag:noindex
X-PUBLISHED-TTL:PT1H
BEGIN:VTIMEZONE
TZID:Europe/Paris
BEGIN:DAYLIGHT
TZOFFSETFROM:+0100
TZOFFSETTO:+0200
TZNAME:CEST
DTSTART:20250330T010000
END:DAYLIGHT
BEGIN:STANDARD
TZOFFSETFROM:+0200
TZOFFSETTO:+0100
TZNAME:CET
DTSTART:20251026T010000
END:STANDARD
BEGIN:DAYLIGHT
TZOFFSETFROM:+0100
TZOFFSETTO:+0200
TZNAME:CEST
DTSTART:20260329T010000
END:DAYLIGHT
BEGIN:STANDARD
TZOFFSETFROM:+0200
TZOFFSETTO:+0100
TZNAME:CET
DTSTART:20261025T010000
END:STANDARD
BEGIN:DAYLIGHT
TZOFFSETFROM:+0100
TZOFFSETTO:+0200
TZNAME:CEST
DTSTART:20270328T010000
END:DAYLIGHT
BEGIN:STANDARD
TZOFFSETFROM:+0200
TZOFFSETTO:+0100
TZNAME:CET
DTSTART:20271031T010000
END:STANDARD
END:VTIMEZONE
BEGIN:VEVENT
DTSTART;TZID=Europe/Paris:20260612T120000
DTEND;TZID=Europe/Paris:20260612T140000
DTSTAMP:20260421T030654
CREATED:20250702T130602Z
LAST-MODIFIED:20260126T081737Z
UID:52685-1781265600-1781272800@icrej.unicaen.fr
SUMMARY:Conférence d'actualité de la RSE
DESCRIPTION:par Jean-Christophe Pagnucco\, professeur de droit privé à l’université de Caen Normandie et Aïda Bennini\, maître de conférences HDR à l’université Sorbonne Paris Nord et membre associé de l’ICREJ \n\n\n\n\nInscription\n\n\n\n\n\nInscription possible avant le vendredi 5 juin 2026 \n\n\n\n\n\n\nFormation continue : Bulletin à compléter et à renvoyer sur droit.recherche@unicaen.fr \n\n\n\nAvocat du Barreau de Caen : Bulletin spécifique à compléter et à renvoyer sur droit.recherche@unicaen.fr ainsi qu’au secrétaire de l’Ordre de Avocats \n\n\n\nAuditeur libre : Gratuité\, sans délivrance d’attestation de présence (lien en cours d’édition)
URL:https://icrej.unicaen.fr/evenement/conference-dactualite-de-la-rse/
LOCATION:Caen · Campus 1 · Bâtiment D · 4e étage · Salle du Belvédère\, Esplanade de la Paix\, Caen\, 14000\, France
CATEGORIES:Conférence d'actualité
ATTACH;FMTTYPE=image/jpeg:https://icrej.unicaen.fr/wp-content/uploads/sites/21/2024/07/2025-2026_ConferencesActu.jpg
END:VEVENT
END:VCALENDAR