BEGIN:VCALENDAR
VERSION:2.0
PRODID:-//ICREJ - Institut caennais de recherche juridique - ECPv6.15.18//NONSGML v1.0//EN
CALSCALE:GREGORIAN
METHOD:PUBLISH
X-WR-CALNAME:ICREJ - Institut caennais de recherche juridique
X-ORIGINAL-URL:https://icrej.unicaen.fr
X-WR-CALDESC:Évènements pour ICREJ - Institut caennais de recherche juridique
REFRESH-INTERVAL;VALUE=DURATION:PT1H
X-Robots-Tag:noindex
X-PUBLISHED-TTL:PT1H
BEGIN:VTIMEZONE
TZID:Europe/Paris
BEGIN:DAYLIGHT
TZOFFSETFROM:+0100
TZOFFSETTO:+0200
TZNAME:CEST
DTSTART:20250330T010000
END:DAYLIGHT
BEGIN:STANDARD
TZOFFSETFROM:+0200
TZOFFSETTO:+0100
TZNAME:CET
DTSTART:20251026T010000
END:STANDARD
BEGIN:DAYLIGHT
TZOFFSETFROM:+0100
TZOFFSETTO:+0200
TZNAME:CEST
DTSTART:20260329T010000
END:DAYLIGHT
BEGIN:STANDARD
TZOFFSETFROM:+0200
TZOFFSETTO:+0100
TZNAME:CET
DTSTART:20261025T010000
END:STANDARD
BEGIN:DAYLIGHT
TZOFFSETFROM:+0100
TZOFFSETTO:+0200
TZNAME:CEST
DTSTART:20270328T010000
END:DAYLIGHT
BEGIN:STANDARD
TZOFFSETFROM:+0200
TZOFFSETTO:+0100
TZNAME:CET
DTSTART:20271031T010000
END:STANDARD
END:VTIMEZONE
BEGIN:VEVENT
DTSTART;TZID=Europe/Paris:20260327T180000
DTEND;TZID=Europe/Paris:20260327T193000
DTSTAMP:20260421T030904
CREATED:20260210T131437Z
LAST-MODIFIED:20260210T132437Z
UID:89716-1774634400-1774639800@icrej.unicaen.fr
SUMMARY:Procès fictif
DESCRIPTION:Les étudiants de la Clinique Juridique de Normandie sont honorés de vous présenter la représentation de leur procès fictif\, sous la coordination d’Amandine Cayol et Maria Castillo\, enseignantes-chercheuses à l’université de Caen Normandie et codirectrices de la Clinique. \n\n\n\n\nLe 27 mars 2026\, seront jugés les faits suivants : Le 2 janvier 2026\, l’ambassadeur de Naboo a été victime d’un accident en voiture autonome à Caen.Le déversement d’une substance qu’il transportait a entraîné une contamination des sols et de l’eau.Le suite sont catastrophiques : plusieurs personnes hospitalisées\, une colonie de tortue décimée\, des poissons impropres à la consommation… \n\n\n\nLes procès administratif et civil permettront d’en déterminer les responsables. \n\n\n\n \n\n\n\n\nAvec la participation de :  \n\n\n\n\n\n\nAgathe Bessonnet\n\n\n\nMarguerite Bernard\n\n\n\nLysa Fromage\n\n\n\nJonas Leroux-Brionne\n\n\n\n\n\n\n\nJuliette Lopes\n\n\n\nMathilde Poulain\n\n\n\nChloé Saliba\n\n\n\nMarine Vincent\n\n\n\n\n\n\n\n\n\n\nPour toutes informations ou pour vous inscrire : droit.clinique.juridique@unicaen.fr
URL:https://icrej.unicaen.fr/evenement/proces-fictif/
LOCATION:Caen · Campus 1 · Bâtiment D · Salle DR-407\, Centre de recherche en sciences de l'éducation\, Esplanade de la Paix\, Caen\, 14000\, France
CATEGORIES:Recherche
ATTACH;FMTTYPE=image/jpeg:https://icrej.unicaen.fr/wp-content/uploads/sites/21/2026/02/2026-03-27_proces-fictif.jpg
ORGANIZER;CN="Clinique juridique de Normandie":MAILTO:droit.clinique.juridique@unicaen.fr
END:VEVENT
END:VCALENDAR