BEGIN:VCALENDAR
VERSION:2.0
PRODID:-//ICREJ - Institut caennais de recherche juridique - ECPv6.15.18//NONSGML v1.0//EN
CALSCALE:GREGORIAN
METHOD:PUBLISH
X-WR-CALNAME:ICREJ - Institut caennais de recherche juridique
X-ORIGINAL-URL:https://icrej.unicaen.fr
X-WR-CALDESC:Évènements pour ICREJ - Institut caennais de recherche juridique
REFRESH-INTERVAL;VALUE=DURATION:PT1H
X-Robots-Tag:noindex
X-PUBLISHED-TTL:PT1H
BEGIN:VTIMEZONE
TZID:Europe/Paris
BEGIN:DAYLIGHT
TZOFFSETFROM:+0100
TZOFFSETTO:+0200
TZNAME:CEST
DTSTART:20250330T010000
END:DAYLIGHT
BEGIN:STANDARD
TZOFFSETFROM:+0200
TZOFFSETTO:+0100
TZNAME:CET
DTSTART:20251026T010000
END:STANDARD
BEGIN:DAYLIGHT
TZOFFSETFROM:+0100
TZOFFSETTO:+0200
TZNAME:CEST
DTSTART:20260329T010000
END:DAYLIGHT
BEGIN:STANDARD
TZOFFSETFROM:+0200
TZOFFSETTO:+0100
TZNAME:CET
DTSTART:20261025T010000
END:STANDARD
BEGIN:DAYLIGHT
TZOFFSETFROM:+0100
TZOFFSETTO:+0200
TZNAME:CEST
DTSTART:20270328T010000
END:DAYLIGHT
BEGIN:STANDARD
TZOFFSETFROM:+0200
TZOFFSETTO:+0100
TZNAME:CET
DTSTART:20271031T010000
END:STANDARD
END:VTIMEZONE
BEGIN:VEVENT
DTSTART;TZID=Europe/Paris:20260114T120000
DTEND;TZID=Europe/Paris:20260114T140000
DTSTAMP:20260421T030729
CREATED:20251201T074314Z
LAST-MODIFIED:20251201T074315Z
UID:89413-1768392000-1768399200@icrej.unicaen.fr
SUMMARY:Exposé de recherche : le parcours procédural de la victime d’infraction sexuelle
DESCRIPTION:Par Théo Scherer\, maître de conférences en droit privé à l’université de Caen Normandie  \n\n\n\n\n\nDe mai à août 2025\, la Direction de la recherche et de l’innovation de l’université de Caen Normandie a financé le stage académique d’une étudiante de Master 2\, Mme Zhélia Guibout. Elle a travaillé la question du parcours procédurale de la victime d’infraction sexuelle. Cette conférence a pour objet d’exposer quels sont les principaux résultats de cette recherche et de les mettre en relief avec la jurisprudence récente en matière de victimisation secondaire.
URL:https://icrej.unicaen.fr/evenement/expose-de-recherche-le-parcours-procedural-de-la-victime-dinfraction-sexuelle/
LOCATION:Caen · Campus 1 · Bâtiment D · 4e étage · Salle du Belvédère\, Esplanade de la Paix\, Caen\, 14000\, France
CATEGORIES:Conférence recherche
ATTACH;FMTTYPE=image/jpeg:https://icrej.unicaen.fr/wp-content/uploads/sites/21/2024/11/2025-01-13_Conf_Nouveaux_EC.jpg
END:VEVENT
END:VCALENDAR