BEGIN:VCALENDAR
VERSION:2.0
PRODID:-//ICREJ - Institut caennais de recherche juridique - ECPv6.15.18//NONSGML v1.0//EN
CALSCALE:GREGORIAN
METHOD:PUBLISH
X-WR-CALNAME:ICREJ - Institut caennais de recherche juridique
X-ORIGINAL-URL:https://icrej.unicaen.fr
X-WR-CALDESC:Évènements pour ICREJ - Institut caennais de recherche juridique
REFRESH-INTERVAL;VALUE=DURATION:PT1H
X-Robots-Tag:noindex
X-PUBLISHED-TTL:PT1H
BEGIN:VTIMEZONE
TZID:Europe/Paris
BEGIN:DAYLIGHT
TZOFFSETFROM:+0100
TZOFFSETTO:+0200
TZNAME:CEST
DTSTART:20240331T010000
END:DAYLIGHT
BEGIN:STANDARD
TZOFFSETFROM:+0200
TZOFFSETTO:+0100
TZNAME:CET
DTSTART:20241027T010000
END:STANDARD
BEGIN:DAYLIGHT
TZOFFSETFROM:+0100
TZOFFSETTO:+0200
TZNAME:CEST
DTSTART:20250330T010000
END:DAYLIGHT
BEGIN:STANDARD
TZOFFSETFROM:+0200
TZOFFSETTO:+0100
TZNAME:CET
DTSTART:20251026T010000
END:STANDARD
BEGIN:DAYLIGHT
TZOFFSETFROM:+0100
TZOFFSETTO:+0200
TZNAME:CEST
DTSTART:20260329T010000
END:DAYLIGHT
BEGIN:STANDARD
TZOFFSETFROM:+0200
TZOFFSETTO:+0100
TZNAME:CET
DTSTART:20261025T010000
END:STANDARD
END:VTIMEZONE
BEGIN:VEVENT
DTSTART;TZID=Europe/Paris:20251218T140000
DTEND;TZID=Europe/Paris:20251218T180000
DTSTAMP:20260421T030908
CREATED:20251001T094706Z
LAST-MODIFIED:20251215T130153Z
UID:89084-1766066400-1766080800@icrej.unicaen.fr
SUMMARY:Soutenance de thèse : Mme Sarah Markiewicz
DESCRIPTION:L’ICREJ vous informe que Mme Sarah Markiewicz soutient sa thèse de doctorat intitulée : “L’encadrement juridico-normatif de la gestion électronique des documents numériques en entreprise : étude en droits français\, belge\, luxembourgeois et québécois“\, le jeudi 18 décembre 2025\, à 14h. \n\n\n\nJury est composé de : \n\n\n\n\nJean-François Blanchette\, Professeur émérite\, École Nationale Supérieure des Sciences de l’Information et des Bibliothèques (E.N.S.S.I.B.)\, Membre du jury\n\n\n\nCorinne Blery\, Professeur\, université Polytechnique des Hauts-de-France\, Rapporteur du jury\n\n\n\nThibault Douville\, Professeur\, université de Caen Normandie\, Directeur de thèse\n\n\n\nVincent Gautrais\, Professeur\, université de Montréal (UdeM)\, Membre du jury\n\n\n\nEmmanuel Netter\, Professeur\, université de Strasbourg\, Rapporteur du jury
URL:https://icrej.unicaen.fr/evenement/soutenance-de-these-sarah-markiewicz/
LOCATION:Caen · Campus 1 · Bâtiment D · Salle DR-315\, Centre de recherche en sciences de l'éducation\, Esplanade de la Paix\, Caen\, 14000\, France
CATEGORIES:Soutenance
ATTACH;FMTTYPE=image/jpeg:https://icrej.unicaen.fr/wp-content/uploads/sites/21/2023/02/ICREJ_Bandeau_these.jpg
ORGANIZER;CN="Institut caennais de recherche juridique (ICREJ)":MAILTO:droit.recherche@unicaen.fr
END:VEVENT
END:VCALENDAR