BEGIN:VCALENDAR
VERSION:2.0
PRODID:-//ICREJ - Institut caennais de recherche juridique - ECPv6.15.18//NONSGML v1.0//EN
CALSCALE:GREGORIAN
METHOD:PUBLISH
X-WR-CALNAME:ICREJ - Institut caennais de recherche juridique
X-ORIGINAL-URL:https://icrej.unicaen.fr
X-WR-CALDESC:Évènements pour ICREJ - Institut caennais de recherche juridique
REFRESH-INTERVAL;VALUE=DURATION:PT1H
X-Robots-Tag:noindex
X-PUBLISHED-TTL:PT1H
BEGIN:VTIMEZONE
TZID:Europe/Paris
BEGIN:DAYLIGHT
TZOFFSETFROM:+0100
TZOFFSETTO:+0200
TZNAME:CEST
DTSTART:20240331T010000
END:DAYLIGHT
BEGIN:STANDARD
TZOFFSETFROM:+0200
TZOFFSETTO:+0100
TZNAME:CET
DTSTART:20241027T010000
END:STANDARD
BEGIN:DAYLIGHT
TZOFFSETFROM:+0100
TZOFFSETTO:+0200
TZNAME:CEST
DTSTART:20250330T010000
END:DAYLIGHT
BEGIN:STANDARD
TZOFFSETFROM:+0200
TZOFFSETTO:+0100
TZNAME:CET
DTSTART:20251026T010000
END:STANDARD
BEGIN:DAYLIGHT
TZOFFSETFROM:+0100
TZOFFSETTO:+0200
TZNAME:CEST
DTSTART:20260329T010000
END:DAYLIGHT
BEGIN:STANDARD
TZOFFSETFROM:+0200
TZOFFSETTO:+0100
TZNAME:CET
DTSTART:20261025T010000
END:STANDARD
END:VTIMEZONE
BEGIN:VEVENT
DTSTART;TZID=Europe/Paris:20251127T170000
DTEND;TZID=Europe/Paris:20251127T190000
DTSTAMP:20260422T223449
CREATED:20251014T142017Z
LAST-MODIFIED:20251024T090616Z
UID:89125-1764262800-1764270000@icrej.unicaen.fr
SUMMARY:Conférence « Claude Lombois et la justice pénale internationale »
DESCRIPTION:Avant l’ouverture de la prochaine édition du concours Lombois\, des universitaires se réunissent pour rendre hommage au professeur qui donne son nom au concours\, Claude Lombois\, l’un des pères fondateurs du droit pénal international en tant que sujet d’étude doctrinal. A cette occasion\, ils reviendront sur l’œuvre de cet auteur\, en perspective avec l’émergence d’une justice pénale internationale au milieu du XXe siècle. \n\n\n\n\n\nSous la coordination de Théo Scherer et Thomas Besse\, Maîtres de conférences en droit privé à l’université de Caen Normandie (ICREJ)
URL:https://icrej.unicaen.fr/evenement/conference-claude-lombois-et-la-justice-penale-internationale/
LOCATION:Caen · Campus 1 · Bâtiment T · Amphi Alexis de Tocqueville\, Amphi Alexis de Tocqueville\, Esplanade de la Paix\, Caen\, 14000\, France
CATEGORIES:Conférence recherche
ATTACH;FMTTYPE=image/jpeg:https://icrej.unicaen.fr/wp-content/uploads/sites/21/2025/10/Bandeau_Conf_27-11-2025_noir-et-blanc.jpg
ORGANIZER;CN="Chaire Normandie pour la paix %C2%AB Droit%2C histoire et neurosciences pour une paix durable%2C m%C3%A9moire et avenir de la paix %C2%BB":MAILTO:chaire.map@unicaen.fr
END:VEVENT
END:VCALENDAR