BEGIN:VCALENDAR
VERSION:2.0
PRODID:-//ICREJ - Institut caennais de recherche juridique - ECPv6.15.18//NONSGML v1.0//EN
CALSCALE:GREGORIAN
METHOD:PUBLISH
X-WR-CALNAME:ICREJ - Institut caennais de recherche juridique
X-ORIGINAL-URL:https://icrej.unicaen.fr
X-WR-CALDESC:Évènements pour ICREJ - Institut caennais de recherche juridique
REFRESH-INTERVAL;VALUE=DURATION:PT1H
X-Robots-Tag:noindex
X-PUBLISHED-TTL:PT1H
BEGIN:VTIMEZONE
TZID:Europe/Paris
BEGIN:DAYLIGHT
TZOFFSETFROM:+0100
TZOFFSETTO:+0200
TZNAME:CEST
DTSTART:20240331T010000
END:DAYLIGHT
BEGIN:STANDARD
TZOFFSETFROM:+0200
TZOFFSETTO:+0100
TZNAME:CET
DTSTART:20241027T010000
END:STANDARD
BEGIN:DAYLIGHT
TZOFFSETFROM:+0100
TZOFFSETTO:+0200
TZNAME:CEST
DTSTART:20250330T010000
END:DAYLIGHT
BEGIN:STANDARD
TZOFFSETFROM:+0200
TZOFFSETTO:+0100
TZNAME:CET
DTSTART:20251026T010000
END:STANDARD
BEGIN:DAYLIGHT
TZOFFSETFROM:+0100
TZOFFSETTO:+0200
TZNAME:CEST
DTSTART:20260329T010000
END:DAYLIGHT
BEGIN:STANDARD
TZOFFSETFROM:+0200
TZOFFSETTO:+0100
TZNAME:CET
DTSTART:20261025T010000
END:STANDARD
END:VTIMEZONE
BEGIN:VEVENT
DTSTART;TZID=Europe/Paris:20250625T000000
DTEND;TZID=Europe/Paris:20250625T235959
DTSTAMP:20260421T030708
CREATED:20250430T140750Z
LAST-MODIFIED:20260212T090907Z
UID:52341-1750809600-1750895999@icrej.unicaen.fr
SUMMARY:Les processus d’intégration : source de paix ?
DESCRIPTION:Présentation de la journée\n\n\n\nLa Communauté Économique Des États d’Afrique de l’Ouest (CEDEAO) a été créée par le traité de Lagos signé le 28 Mai 1975 par quinze pays de l’Afrique de l’Ouest (Bénin\, Burkina\, Côte d’Ivoire\, Gambie\, Ghana\, Guinée\, Guinée-Bissau\, Liberia\, Mali\, Niger\, Nigeria\, Sénégal\, Sierra Leone et Togo). La CEDEAO avait initialement pour objectif principal de « promouvoir la coopération et l’intégration dans la perspective d’une Union économique de l’Afrique de l’Ouest en vue d’élever le niveau de vie de ses peuples\, de maintenir et d’accroître la stabilité économique\, de renforcer les relations entre les États Membres et de contribuer au progrès et au développement du continent africain ». Si les objectifs initiaux étaient donc essentiellement économiques\, cette Communauté s’est par la suite intéressée à des questions plus politiques. Ainsi\, la CEDEAO a mis sur pied au début des années 90 une force de maintien de la paix (ECOMOG) suite aux différents conflits survenus dans la région.De son côté\, l’intégration économique européenne a beaucoup évolué. En 1951\, en mettant en commun leur production de charbon et d’acier\, la France et l’Allemagne substituent la solidarité d’intérêts à la rivalité et à la rancœur\, cinq ans seulement après la fin de la Seconde Guerre mondiale. La Communauté Européenne du Charbon et de l’Acier (CECA)\, qui accueillera par ailleurs quatre autres pays d’Europe de l’Ouest\, sera le point de départ d’une intégration d’abord aventure économique puis politique qui aujourd’hui est concrétisée par l’Union européenne. Le traité de Maastricht a\, entre autres\, institué une Politique étrangère et de sécurité commune (PESC).En considérant ces deux exemples\, juristes sénégalais et français entendent questionner les liens entre intégration économique et paix. \n\n\n\nProgramme\n\n\n\nTélécharger le programme (pdf · 517 Ko)Télécharger (pdf · 517 Ko)\n\n\n\nInscription avant le 20 juin 2025\n\n\n\n\n\nÉvénement accessible à distanceContactez la chargée de projet Chaire après votre inscription pour réceptionner le lien : chaire.map@unicaen.fr (lien envoyé au plus tard le 19 juin 2025)
URL:https://icrej.unicaen.fr/evenement/les-processus-dintegration-source-de-paix/
LOCATION:Caen · Campus 1 · Bâtiment D · 4e étage · Salle du Belvédère\, Esplanade de la Paix\, Caen\, 14000\, France
CATEGORIES:Congrès - Colloque
ATTACH;FMTTYPE=image/jpeg:https://icrej.unicaen.fr/wp-content/uploads/sites/21/2025/04/2025-06-25_journee-HISTEME_ChaireNPP.jpg
ORGANIZER;CN="Chaire Normandie pour la paix %C2%AB Droit%2C histoire et neurosciences pour une paix durable%2C m%C3%A9moire et avenir de la paix %C2%BB":MAILTO:chaire.map@unicaen.fr
END:VEVENT
END:VCALENDAR