BEGIN:VCALENDAR
VERSION:2.0
PRODID:-//ICREJ - Institut caennais de recherche juridique - ECPv6.15.18//NONSGML v1.0//EN
CALSCALE:GREGORIAN
METHOD:PUBLISH
X-WR-CALNAME:ICREJ - Institut caennais de recherche juridique
X-ORIGINAL-URL:https://icrej.unicaen.fr
X-WR-CALDESC:Évènements pour ICREJ - Institut caennais de recherche juridique
REFRESH-INTERVAL;VALUE=DURATION:PT1H
X-Robots-Tag:noindex
X-PUBLISHED-TTL:PT1H
BEGIN:VTIMEZONE
TZID:Europe/Paris
BEGIN:DAYLIGHT
TZOFFSETFROM:+0100
TZOFFSETTO:+0200
TZNAME:CEST
DTSTART:20240331T010000
END:DAYLIGHT
BEGIN:STANDARD
TZOFFSETFROM:+0200
TZOFFSETTO:+0100
TZNAME:CET
DTSTART:20241027T010000
END:STANDARD
BEGIN:DAYLIGHT
TZOFFSETFROM:+0100
TZOFFSETTO:+0200
TZNAME:CEST
DTSTART:20250330T010000
END:DAYLIGHT
BEGIN:STANDARD
TZOFFSETFROM:+0200
TZOFFSETTO:+0100
TZNAME:CET
DTSTART:20251026T010000
END:STANDARD
BEGIN:DAYLIGHT
TZOFFSETFROM:+0100
TZOFFSETTO:+0200
TZNAME:CEST
DTSTART:20260329T010000
END:DAYLIGHT
BEGIN:STANDARD
TZOFFSETFROM:+0200
TZOFFSETTO:+0100
TZNAME:CET
DTSTART:20261025T010000
END:STANDARD
END:VTIMEZONE
BEGIN:VEVENT
DTSTART;TZID=Europe/Paris:20250617T143000
DTEND;TZID=Europe/Paris:20250617T183000
DTSTAMP:20260420T151927
CREATED:20250423T102729Z
LAST-MODIFIED:20250603T140329Z
UID:50892-1750170600-1750185000@icrej.unicaen.fr
SUMMARY:Soutenance de thèse : M. Mahamat Moussa Ali
DESCRIPTION:L’ICREJ vous informe que M. Mahamat Moussa Ali soutient sa thèse de doctorat intitulée : “L’évοlutiοn de la sécurité collective dans la région sahélο-saharienne : entre complexités\, rivalités et complémentarités.“\, le mardi 17 juin 2025\, à 14h30. \n\n\n\nLe jury est composé de : \n\n\n\n\nEL ZEIN Derek\, Professeur\, Université de Paris Cité\, Rapporteur du jury\n\n\n\nROUVILLOIS Frédéric\, Professeur\, Université de Paris Cité\, Rapporteur du jury\n\n\n\nPOIREY Sophie\, Maître de conférences\, Université de Caen Normandie\, Membre du jury\n\n\n\nBOUTIN Christophe\, Professeur\, Université de Caen Normandie\, Directeur de thèse
URL:https://icrej.unicaen.fr/evenement/soutenance-de-these-mahamat-moussa-ali/
LOCATION:Caen · Campus 1 · Bâtiment D · Salle des Actes\, Centre de recherche en sciences de l'éducation\, Esplanade de la Paix\, Caen\, 14000\, France
CATEGORIES:Soutenance
ATTACH;FMTTYPE=image/jpeg:https://icrej.unicaen.fr/wp-content/uploads/sites/21/2023/02/ICREJ_Bandeau_these.jpg
ORGANIZER;CN="Institut caennais de recherche juridique (ICREJ)":MAILTO:droit.recherche@unicaen.fr
END:VEVENT
END:VCALENDAR