BEGIN:VCALENDAR
VERSION:2.0
PRODID:-//ICREJ - Institut caennais de recherche juridique - ECPv6.15.18//NONSGML v1.0//EN
CALSCALE:GREGORIAN
METHOD:PUBLISH
X-WR-CALNAME:ICREJ - Institut caennais de recherche juridique
X-ORIGINAL-URL:https://icrej.unicaen.fr
X-WR-CALDESC:Évènements pour ICREJ - Institut caennais de recherche juridique
REFRESH-INTERVAL;VALUE=DURATION:PT1H
X-Robots-Tag:noindex
X-PUBLISHED-TTL:PT1H
BEGIN:VTIMEZONE
TZID:Europe/Paris
BEGIN:DAYLIGHT
TZOFFSETFROM:+0100
TZOFFSETTO:+0200
TZNAME:CEST
DTSTART:20230326T010000
END:DAYLIGHT
BEGIN:STANDARD
TZOFFSETFROM:+0200
TZOFFSETTO:+0100
TZNAME:CET
DTSTART:20231029T010000
END:STANDARD
BEGIN:DAYLIGHT
TZOFFSETFROM:+0100
TZOFFSETTO:+0200
TZNAME:CEST
DTSTART:20240331T010000
END:DAYLIGHT
BEGIN:STANDARD
TZOFFSETFROM:+0200
TZOFFSETTO:+0100
TZNAME:CET
DTSTART:20241027T010000
END:STANDARD
BEGIN:DAYLIGHT
TZOFFSETFROM:+0100
TZOFFSETTO:+0200
TZNAME:CEST
DTSTART:20250330T010000
END:DAYLIGHT
BEGIN:STANDARD
TZOFFSETFROM:+0200
TZOFFSETTO:+0100
TZNAME:CET
DTSTART:20251026T010000
END:STANDARD
END:VTIMEZONE
BEGIN:VEVENT
DTSTART;TZID=Europe/Paris:20241202T140000
DTEND;TZID=Europe/Paris:20241202T160000
DTSTAMP:20260424T081556
CREATED:20241105T141450Z
LAST-MODIFIED:20241205T081259Z
UID:50916-1733148000-1733155200@icrej.unicaen.fr
SUMMARY:Masterclass Constitutionalism and Insurrection | 1
DESCRIPTION:Séance 1 : General context of the 14th amendment and constitutional reform\n\n\n\n\n\nPrésentation de la masterclass\n\n\n\nAu printemps 2024\, la question de savoir si Donald Trump pouvait être disqualifié des élections présidentielles à venir et partant éliminé des bulletins électoraux a été examinée par différents juges aux États-Unis. La raison était l’accusation de trahison par l’incitation à l’insurrection que ses propos du 6 janvier 2021 auraient représenté. Si la Cour Suprême des États-Unis a finalement conclu au maintien de sa candidature\, la question de savoir qu’est-ce qu’une insurrection en droit constitutionnel américain et dans l’histoire des États-Unis est revenue à l’ordre du jour.  \n\n\n\nCette masterclass\, enseignée par un des principaux experts de la question aux États-Unis\, Mark Graber (University of Maryland)\, a vocation à approfondir les aspects historiques\, politiques et juridiques de l’insurrection dans le cadre du constitutionnalisme. Elle sera enseignée en anglais. \n\n\n\nEn partenariat avec
URL:https://icrej.unicaen.fr/evenement/masterclass-constitutionalism-and-insurrection-1/
LOCATION:Caen · Campus 1 · Maison de la recherche en sciences humaines (MRSH) · Amphi\, Campus 1\, Maison de la recherche en sciences humaines (MRSH)\, 1 Esplanade de la Paix\, Caen\, 14000\, France
CATEGORIES:Conférence recherche
ATTACH;FMTTYPE=image/jpeg:https://icrej.unicaen.fr/wp-content/uploads/sites/21/2024/11/2024-12-02_au_04_Masterclass.jpg
ORGANIZER;CN="Institut caennais de recherche juridique (ICREJ)":MAILTO:droit.recherche@unicaen.fr
END:VEVENT
END:VCALENDAR