BEGIN:VCALENDAR
VERSION:2.0
PRODID:-//ICREJ - Institut caennais de recherche juridique - ECPv6.15.18//NONSGML v1.0//EN
CALSCALE:GREGORIAN
METHOD:PUBLISH
X-WR-CALNAME:ICREJ - Institut caennais de recherche juridique
X-ORIGINAL-URL:https://icrej.unicaen.fr
X-WR-CALDESC:Évènements pour ICREJ - Institut caennais de recherche juridique
REFRESH-INTERVAL;VALUE=DURATION:PT1H
X-Robots-Tag:noindex
X-PUBLISHED-TTL:PT1H
BEGIN:VTIMEZONE
TZID:Europe/Paris
BEGIN:DAYLIGHT
TZOFFSETFROM:+0100
TZOFFSETTO:+0200
TZNAME:CEST
DTSTART:20230326T010000
END:DAYLIGHT
BEGIN:STANDARD
TZOFFSETFROM:+0200
TZOFFSETTO:+0100
TZNAME:CET
DTSTART:20231029T010000
END:STANDARD
BEGIN:DAYLIGHT
TZOFFSETFROM:+0100
TZOFFSETTO:+0200
TZNAME:CEST
DTSTART:20240331T010000
END:DAYLIGHT
BEGIN:STANDARD
TZOFFSETFROM:+0200
TZOFFSETTO:+0100
TZNAME:CET
DTSTART:20241027T010000
END:STANDARD
BEGIN:DAYLIGHT
TZOFFSETFROM:+0100
TZOFFSETTO:+0200
TZNAME:CEST
DTSTART:20250330T010000
END:DAYLIGHT
BEGIN:STANDARD
TZOFFSETFROM:+0200
TZOFFSETTO:+0100
TZNAME:CET
DTSTART:20251026T010000
END:STANDARD
END:VTIMEZONE
BEGIN:VEVENT
DTSTART;TZID=Europe/Paris:20240503T120000
DTEND;TZID=Europe/Paris:20240503T140000
DTSTAMP:20260419T172631
CREATED:20230710T094543Z
LAST-MODIFIED:20250228T142852Z
UID:48211-1714737600-1714744800@icrej.unicaen.fr
SUMMARY:Actualité en droit des assurances
DESCRIPTION:Par Amandine Cayol\, maître de conférences en droit privé et sciences criminelles à l’université de Caen Normandie \n\n\n\nConférence en présentiel et à distance(préciser le mode d’inscription souhaité à droit.recherche@unicaen.fr) \n\n\n\n\n\nL’événement est passé\, les inscriptions sont closes.
URL:https://icrej.unicaen.fr/evenement/actualite-en-droit-des-assurances/
LOCATION:Caen · Campus 1 · Bâtiment D · 4e étage · Salle du Belvédère\, Esplanade de la Paix\, Caen\, 14000\, France
CATEGORIES:Conférence d'actualité
ATTACH;FMTTYPE=image/jpeg:https://icrej.unicaen.fr/wp-content/uploads/sites/21/2023/09/2024-05-03_Conf-actu_2.jpg
END:VEVENT
END:VCALENDAR