BEGIN:VCALENDAR
VERSION:2.0
PRODID:-//ICREJ - Institut caennais de recherche juridique - ECPv6.15.18//NONSGML v1.0//EN
CALSCALE:GREGORIAN
METHOD:PUBLISH
X-ORIGINAL-URL:https://icrej.unicaen.fr
X-WR-CALDESC:Évènements pour ICREJ - Institut caennais de recherche juridique
REFRESH-INTERVAL;VALUE=DURATION:PT1H
X-Robots-Tag:noindex
X-PUBLISHED-TTL:PT1H
BEGIN:VTIMEZONE
TZID:Europe/Paris
BEGIN:DAYLIGHT
TZOFFSETFROM:+0100
TZOFFSETTO:+0200
TZNAME:CEST
DTSTART:20230326T010000
END:DAYLIGHT
BEGIN:STANDARD
TZOFFSETFROM:+0200
TZOFFSETTO:+0100
TZNAME:CET
DTSTART:20231029T010000
END:STANDARD
BEGIN:DAYLIGHT
TZOFFSETFROM:+0100
TZOFFSETTO:+0200
TZNAME:CEST
DTSTART:20240331T010000
END:DAYLIGHT
BEGIN:STANDARD
TZOFFSETFROM:+0200
TZOFFSETTO:+0100
TZNAME:CET
DTSTART:20241027T010000
END:STANDARD
BEGIN:DAYLIGHT
TZOFFSETFROM:+0100
TZOFFSETTO:+0200
TZNAME:CEST
DTSTART:20250330T010000
END:DAYLIGHT
BEGIN:STANDARD
TZOFFSETFROM:+0200
TZOFFSETTO:+0100
TZNAME:CET
DTSTART:20251026T010000
END:STANDARD
END:VTIMEZONE
BEGIN:VEVENT
DTSTART;TZID=Europe/Paris:20240411T090000
DTEND;TZID=Europe/Paris:20240411T170000
DTSTAMP:20260426T032643
CREATED:20230705T064858Z
LAST-MODIFIED:20241025T095019Z
UID:48131-1712826000-1712854800@icrej.unicaen.fr
SUMMARY:Majeurs protégés\, maltraitance financière et droit bancaire : Retour sur les difficultés pratiques
DESCRIPTION:Par Gilles Raoul-Cormeil\, professeur de droit privé et sciences criminelles à l’université de Caen Normandie \n\n\n\net Jérôme Lasserre Capdeville\, maître de conférences HDR de droit privé et sciences criminelles à l’université de Strasbourg \n\n\n\nInscription\n\n\n\n\n\nL’événement est passé\, les inscriptions sont closes. \n\n\n\nProgramme\n\n\n\nProgramme (pdf · 2 Mo)Télécharger (pdf · 2 Mo)
URL:https://icrej.unicaen.fr/evenement/majeurs-proteges-pratiques-bancaires/
LOCATION:Caen · Campus 1 · Bâtiment P · Amphi Pierre Daure\, Amphithéâtre Pierre Daure\, Esplanade de la Paix\, Caen\, 14000\, France
CATEGORIES:Congrès - Colloque
ATTACH;FMTTYPE=image/jpeg:https://icrej.unicaen.fr/wp-content/uploads/sites/21/2023/07/2024-04-11_MP-banque.jpg
ORGANIZER;CN="Institut caennais de recherche juridique (ICREJ)":MAILTO:droit.recherche@unicaen.fr
END:VEVENT
END:VCALENDAR