BEGIN:VCALENDAR
VERSION:2.0
PRODID:-//ICREJ - Institut caennais de recherche juridique - ECPv6.15.18//NONSGML v1.0//EN
CALSCALE:GREGORIAN
METHOD:PUBLISH
X-WR-CALNAME:ICREJ - Institut caennais de recherche juridique
X-ORIGINAL-URL:https://icrej.unicaen.fr
X-WR-CALDESC:Évènements pour ICREJ - Institut caennais de recherche juridique
REFRESH-INTERVAL;VALUE=DURATION:PT1H
X-Robots-Tag:noindex
X-PUBLISHED-TTL:PT1H
BEGIN:VTIMEZONE
TZID:Europe/Paris
BEGIN:DAYLIGHT
TZOFFSETFROM:+0100
TZOFFSETTO:+0200
TZNAME:CEST
DTSTART:20220327T010000
END:DAYLIGHT
BEGIN:STANDARD
TZOFFSETFROM:+0200
TZOFFSETTO:+0100
TZNAME:CET
DTSTART:20221030T010000
END:STANDARD
BEGIN:DAYLIGHT
TZOFFSETFROM:+0100
TZOFFSETTO:+0200
TZNAME:CEST
DTSTART:20230326T010000
END:DAYLIGHT
BEGIN:STANDARD
TZOFFSETFROM:+0200
TZOFFSETTO:+0100
TZNAME:CET
DTSTART:20231029T010000
END:STANDARD
BEGIN:DAYLIGHT
TZOFFSETFROM:+0100
TZOFFSETTO:+0200
TZNAME:CEST
DTSTART:20240331T010000
END:DAYLIGHT
BEGIN:STANDARD
TZOFFSETFROM:+0200
TZOFFSETTO:+0100
TZNAME:CET
DTSTART:20241027T010000
END:STANDARD
END:VTIMEZONE
BEGIN:VEVENT
DTSTART;TZID=Europe/Paris:20231214T000000
DTEND;TZID=Europe/Paris:20231215T235959
DTSTAMP:20260421T192426
CREATED:20230704T124427Z
LAST-MODIFIED:20250221T084720Z
UID:48117-1702512000-1702684799@icrej.unicaen.fr
SUMMARY:Solidarités familiales\, ces liens qui nous (dés)unissent
DESCRIPTION:Par Laurence Mauger-Vielpeau\, professeure de droit privé et sciences criminelles à l’université de Caen Normandie \n\n\n\nEn partenariat avec le Barreau de Caen et l’EDAGO \n\n\n\nAffiche \n\n\n\nRésumé\n\n\n\nLa famille actuelle est multiple. L’institution du mariage résiste\, tant bien que mal. Certains lui préfèrent la signature d’un contrat de PACS. D’autres\, rétifs à encadrer leur relation\, privilégient le concubinage. Les enfants\, quel que soit le statut de la famille qui les accueille\, et elle peut également être monoparentale\, ont des devoirs envers leur (s) parent(s) et ceux-ci des obligations envers eux. Les générations se côtoient de plus en plus longtemps. Quelles sont les solidarités au sein de ces familles contemporaines ? Classiques ou nouvelles ? Les concubins y échapperaient-ils\, là où ceux qui sont mariés ou pacsés devraient contribuer aux charges du couple ? Auraient-elles disparu à un point tel que le principe devienne celui de « l’intermédiation » de l’Etat lorsqu’il s’agit de verser une pension alimentaire pour un enfant ? Nos parents âgés devraient-ils se satisfaire d’une prise en charge par la collectivité ? L’obligation alimentaire est une traduction concrète par le droit\, de la solidarité au sein de la famille. Elle aussi revêt bien des formes. Comment s’y retrouver ? L’objet de ce colloque est de s’interroger sur les solidarités familiales présentes\, du point de vue de l’obligation alimentaire\, dans son principe et sa mise en œuvre. \n\n\n\n\n\n\n\nProgramme\n\n\n\n\nJeudi 14 décembre 2023 de 14H00 à 17H30\n\n\n\nVendredi 15 décembre 2023 de 9H00 à 12H30 et de 14H00 à 17H30\n\n\n\n\nProgramme du colloque (pdf · 221 Ko)Télécharger (pdf · 221 Ko)
URL:https://icrej.unicaen.fr/evenement/ces-liens-qui-nous-unissent-familles-et-obligations-alimentaires/
LOCATION:Caen · Campus 1 · Bâtiment P · Amphi Pierre Daure\, Amphithéâtre Pierre Daure\, Esplanade de la Paix\, Caen\, 14000\, France
CATEGORIES:Congrès - Colloque
ATTACH;FMTTYPE=image/jpeg:https://icrej.unicaen.fr/wp-content/uploads/sites/21/2023/07/2023-12-14_Colloque.jpg
ORGANIZER;CN="Institut caennais de recherche juridique (ICREJ)":MAILTO:droit.recherche@unicaen.fr
END:VEVENT
BEGIN:VEVENT
DTSTART;TZID=Europe/Paris:20231215T120000
DTEND;TZID=Europe/Paris:20231215T140000
DTSTAMP:20260421T192426
CREATED:20230710T082832Z
LAST-MODIFIED:20241025T092850Z
UID:48200-1702641600-1702648800@icrej.unicaen.fr
SUMMARY:Actualité en droit de la distribution
DESCRIPTION:Par Delphine Bazin-Beust\, maître de conférences HDR en droit privé et sciences criminelles à l’université de Caen Normandie et Emmanuel Dieny\, Avocat aux barreaux de Paris et Bruxelles Spécialisation en Droit de la concurrence\, droit commercial et droit des affaires \n\n\n\nL’événement est passé\, les inscriptions sont closes.
URL:https://icrej.unicaen.fr/evenement/actualite-en-droit-de-la-distribution/
LOCATION:Caen · Campus 1 · Bâtiment D · Salle DR-315\, Centre de recherche en sciences de l'éducation\, Esplanade de la Paix\, Caen\, 14000\, France
CATEGORIES:Conférence d'actualité
ATTACH;FMTTYPE=image/jpeg:https://icrej.unicaen.fr/wp-content/uploads/sites/21/2023/07/2023-12-15_Conf-actu.jpg
END:VEVENT
BEGIN:VEVENT
DTSTART;TZID=Europe/Paris:20231215T143000
DTEND;TZID=Europe/Paris:20231215T180000
DTSTAMP:20260421T192426
CREATED:20230928T130307Z
LAST-MODIFIED:20250603T140436Z
UID:48619-1702650600-1702663200@icrej.unicaen.fr
SUMMARY:Soutenance de thèse : Mme Karen Dussen Salazar-Chadoutaud
DESCRIPTION:L’ICREJ vous informe que Mme Karen Dussen Salazar-Chadoutaud soutient sa thèse de doctorat intitulée : “La protection internationale des droits fondamentaux des enfants soldats dans le conflit armé colombien“\, le vendredi 15 décembre 2023\, à 14h30. \n\n\n\nJury est composé de : \n\n\n\n\nMme Anne MILLET-DEVALLE\, Professeure des universités\, Rapporteure du jury\n\n\n\nMme Marie ROTA\, Maître de conférence\, Université de Lorraine\, Rapporteure du jury\n\n\n\nM. Serge SLAMA\, Professeur des universités\, Université de Grenobles Alpes\, Membre du jury\n\n\n\nM. Felipe CALDERON-VALENCIA\, Professeur des universités\, Université de Medellin\, Colombie\, Membre du jury\n\n\n\nM. Jean-Manuel LARRALDE\, Professeur des universités\, Université de Caen Normandie\, Directeur de thèse
URL:https://icrej.unicaen.fr/evenement/soutenance-de-these-mme-karen-dussen-salazar-chadoutaud/
LOCATION:Caen · Campus 1 · Bâtiment D · Salle des Actes\, Centre de recherche en sciences de l'éducation\, Esplanade de la Paix\, Caen\, 14000\, France
CATEGORIES:Soutenance
ATTACH;FMTTYPE=image/jpeg:https://icrej.unicaen.fr/wp-content/uploads/sites/21/2023/02/ICREJ_Bandeau_these.jpg
ORGANIZER;CN="Institut caennais de recherche juridique (ICREJ)":MAILTO:droit.recherche@unicaen.fr
END:VEVENT
END:VCALENDAR