BEGIN:VCALENDAR
VERSION:2.0
PRODID:-//ICREJ - Institut caennais de recherche juridique - ECPv6.15.18//NONSGML v1.0//EN
CALSCALE:GREGORIAN
METHOD:PUBLISH
X-WR-CALNAME:ICREJ - Institut caennais de recherche juridique
X-ORIGINAL-URL:https://icrej.unicaen.fr
X-WR-CALDESC:Évènements pour ICREJ - Institut caennais de recherche juridique
REFRESH-INTERVAL;VALUE=DURATION:PT1H
X-Robots-Tag:noindex
X-PUBLISHED-TTL:PT1H
BEGIN:VTIMEZONE
TZID:Europe/Paris
BEGIN:DAYLIGHT
TZOFFSETFROM:+0100
TZOFFSETTO:+0200
TZNAME:CEST
DTSTART:20220327T010000
END:DAYLIGHT
BEGIN:STANDARD
TZOFFSETFROM:+0200
TZOFFSETTO:+0100
TZNAME:CET
DTSTART:20221030T010000
END:STANDARD
BEGIN:DAYLIGHT
TZOFFSETFROM:+0100
TZOFFSETTO:+0200
TZNAME:CEST
DTSTART:20230326T010000
END:DAYLIGHT
BEGIN:STANDARD
TZOFFSETFROM:+0200
TZOFFSETTO:+0100
TZNAME:CET
DTSTART:20231029T010000
END:STANDARD
BEGIN:DAYLIGHT
TZOFFSETFROM:+0100
TZOFFSETTO:+0200
TZNAME:CEST
DTSTART:20240331T010000
END:DAYLIGHT
BEGIN:STANDARD
TZOFFSETFROM:+0200
TZOFFSETTO:+0100
TZNAME:CET
DTSTART:20241027T010000
END:STANDARD
END:VTIMEZONE
BEGIN:VEVENT
DTSTART;TZID=Europe/Paris:20231214T000000
DTEND;TZID=Europe/Paris:20231215T235959
DTSTAMP:20260421T192027
CREATED:20230704T124427Z
LAST-MODIFIED:20250221T084720Z
UID:48117-1702512000-1702684799@icrej.unicaen.fr
SUMMARY:Solidarités familiales\, ces liens qui nous (dés)unissent
DESCRIPTION:Par Laurence Mauger-Vielpeau\, professeure de droit privé et sciences criminelles à l’université de Caen Normandie \n\n\n\nEn partenariat avec le Barreau de Caen et l’EDAGO \n\n\n\nAffiche \n\n\n\nRésumé\n\n\n\nLa famille actuelle est multiple. L’institution du mariage résiste\, tant bien que mal. Certains lui préfèrent la signature d’un contrat de PACS. D’autres\, rétifs à encadrer leur relation\, privilégient le concubinage. Les enfants\, quel que soit le statut de la famille qui les accueille\, et elle peut également être monoparentale\, ont des devoirs envers leur (s) parent(s) et ceux-ci des obligations envers eux. Les générations se côtoient de plus en plus longtemps. Quelles sont les solidarités au sein de ces familles contemporaines ? Classiques ou nouvelles ? Les concubins y échapperaient-ils\, là où ceux qui sont mariés ou pacsés devraient contribuer aux charges du couple ? Auraient-elles disparu à un point tel que le principe devienne celui de « l’intermédiation » de l’Etat lorsqu’il s’agit de verser une pension alimentaire pour un enfant ? Nos parents âgés devraient-ils se satisfaire d’une prise en charge par la collectivité ? L’obligation alimentaire est une traduction concrète par le droit\, de la solidarité au sein de la famille. Elle aussi revêt bien des formes. Comment s’y retrouver ? L’objet de ce colloque est de s’interroger sur les solidarités familiales présentes\, du point de vue de l’obligation alimentaire\, dans son principe et sa mise en œuvre. \n\n\n\n\n\n\n\nProgramme\n\n\n\n\nJeudi 14 décembre 2023 de 14H00 à 17H30\n\n\n\nVendredi 15 décembre 2023 de 9H00 à 12H30 et de 14H00 à 17H30\n\n\n\n\nProgramme du colloque (pdf · 221 Ko)Télécharger (pdf · 221 Ko)
URL:https://icrej.unicaen.fr/evenement/ces-liens-qui-nous-unissent-familles-et-obligations-alimentaires/
LOCATION:Caen · Campus 1 · Bâtiment P · Amphi Pierre Daure\, Amphithéâtre Pierre Daure\, Esplanade de la Paix\, Caen\, 14000\, France
CATEGORIES:Congrès - Colloque
ATTACH;FMTTYPE=image/jpeg:https://icrej.unicaen.fr/wp-content/uploads/sites/21/2023/07/2023-12-14_Colloque.jpg
ORGANIZER;CN="Institut caennais de recherche juridique (ICREJ)":MAILTO:droit.recherche@unicaen.fr
END:VEVENT
END:VCALENDAR