BEGIN:VCALENDAR
VERSION:2.0
PRODID:-//ICREJ - Institut caennais de recherche juridique - ECPv6.15.18//NONSGML v1.0//EN
CALSCALE:GREGORIAN
METHOD:PUBLISH
X-WR-CALNAME:ICREJ - Institut caennais de recherche juridique
X-ORIGINAL-URL:https://icrej.unicaen.fr
X-WR-CALDESC:Évènements pour ICREJ - Institut caennais de recherche juridique
REFRESH-INTERVAL;VALUE=DURATION:PT1H
X-Robots-Tag:noindex
X-PUBLISHED-TTL:PT1H
BEGIN:VTIMEZONE
TZID:Europe/Paris
BEGIN:DAYLIGHT
TZOFFSETFROM:+0100
TZOFFSETTO:+0200
TZNAME:CEST
DTSTART:20220327T010000
END:DAYLIGHT
BEGIN:STANDARD
TZOFFSETFROM:+0200
TZOFFSETTO:+0100
TZNAME:CET
DTSTART:20221030T010000
END:STANDARD
BEGIN:DAYLIGHT
TZOFFSETFROM:+0100
TZOFFSETTO:+0200
TZNAME:CEST
DTSTART:20230326T010000
END:DAYLIGHT
BEGIN:STANDARD
TZOFFSETFROM:+0200
TZOFFSETTO:+0100
TZNAME:CET
DTSTART:20231029T010000
END:STANDARD
BEGIN:DAYLIGHT
TZOFFSETFROM:+0100
TZOFFSETTO:+0200
TZNAME:CEST
DTSTART:20240331T010000
END:DAYLIGHT
BEGIN:STANDARD
TZOFFSETFROM:+0200
TZOFFSETTO:+0100
TZNAME:CET
DTSTART:20241027T010000
END:STANDARD
END:VTIMEZONE
BEGIN:VEVENT
DTSTART;TZID=Europe/Paris:20231004T193000
DTEND;TZID=Europe/Paris:20231004T220000
DTSTAMP:20260421T172216
CREATED:20230711T065549Z
LAST-MODIFIED:20240307T133741Z
UID:48226-1696447800-1696456800@icrej.unicaen.fr
SUMMARY:Nuit du droit · Édition 2023
DESCRIPTION:Manifestation « Mémoire et avenir du droit à l’IVG »\n\n\n\nAccueil à partir de 19H \n\n\n\nA l’occasion de la Nuit du Droit édition 2023\, la Cour d’appel de Caen\, le tribunal judiciaire de Caen\, l’Université de Caen-Normandie (faculté de droit\, collège d’excellence et module Jean Monnet mémoire et avenir de l’Union Européenne)\, le barreau de Caen et le CDAD du Calvados organisent une soirée commune sur le thème de la mémoire et de l’avenir du droit à l’IVG à partir du procès de Bobigny de 1972 et du contexte actuel de réflexion autour de la constitutionnalisation du droit à l’IVG. \n\n\n\nProgramme de la soirée\n\n\n\nS’appuyant sur des archives de l’INA et des lectures à haute voix\, la soirée s’articulera autour d’une présentation du contexte social et politique de la France en 1972\, d’une présentation de l’histoire de la famille CHEVALIER ayant conduit au procès de Bobigny et à la célèbre plaidoirie de Gisèle HALIMI ainsi qu’à des représentations théâtralisées du procès. Passant du prétoire à la loi de 1975\, la soirée sera également l’occasion de revenir sur le parcours législatif de Simone VEIL\, pour enfin ouvrir la réflexion et le débat sur les défis de l’avenir de ce droit dans un contexte européen et international. \n\n\n\nConditions d’inscription\n\n\n\nEntrée libre sur inscription \n\n\n\n\n\n\n\n\n\n\n\nAvec la participation de magistrats\, avocats\, universitaires\, professionnels du planning familial et étudiants de l’Université Caen Normandie.
URL:https://icrej.unicaen.fr/evenement/nuit-du-droit-edition-2023/
LOCATION:Caen · Campus 1 · Bâtiment P · Amphi Pierre Daure\, Amphithéâtre Pierre Daure\, Esplanade de la Paix\, Caen\, 14000\, France
CATEGORIES:Module Jean Monnet
ATTACH;FMTTYPE=image/jpeg:https://icrej.unicaen.fr/wp-content/uploads/sites/21/2023/07/VISUEL-PLACEMENT_1366x525_NDD2023.jpg
END:VEVENT
END:VCALENDAR