BEGIN:VCALENDAR
VERSION:2.0
PRODID:-//ICREJ - Institut caennais de recherche juridique - ECPv6.15.18//NONSGML v1.0//EN
CALSCALE:GREGORIAN
METHOD:PUBLISH
X-WR-CALNAME:ICREJ - Institut caennais de recherche juridique
X-ORIGINAL-URL:https://icrej.unicaen.fr
X-WR-CALDESC:Évènements pour ICREJ - Institut caennais de recherche juridique
REFRESH-INTERVAL;VALUE=DURATION:PT1H
X-Robots-Tag:noindex
X-PUBLISHED-TTL:PT1H
BEGIN:VTIMEZONE
TZID:Europe/Paris
BEGIN:DAYLIGHT
TZOFFSETFROM:+0100
TZOFFSETTO:+0200
TZNAME:CEST
DTSTART:20220327T010000
END:DAYLIGHT
BEGIN:STANDARD
TZOFFSETFROM:+0200
TZOFFSETTO:+0100
TZNAME:CET
DTSTART:20221030T010000
END:STANDARD
BEGIN:DAYLIGHT
TZOFFSETFROM:+0100
TZOFFSETTO:+0200
TZNAME:CEST
DTSTART:20230326T010000
END:DAYLIGHT
BEGIN:STANDARD
TZOFFSETFROM:+0200
TZOFFSETTO:+0100
TZNAME:CET
DTSTART:20231029T010000
END:STANDARD
BEGIN:DAYLIGHT
TZOFFSETFROM:+0100
TZOFFSETTO:+0200
TZNAME:CEST
DTSTART:20240331T010000
END:DAYLIGHT
BEGIN:STANDARD
TZOFFSETFROM:+0200
TZOFFSETTO:+0100
TZNAME:CET
DTSTART:20241027T010000
END:STANDARD
END:VTIMEZONE
BEGIN:VEVENT
DTSTART;TZID=Europe/Paris:20230929T120000
DTEND;TZID=Europe/Paris:20230929T140000
DTSTAMP:20260422T223446
CREATED:20230629T143838Z
LAST-MODIFIED:20241025T092838Z
UID:48017-1695988800-1695996000@icrej.unicaen.fr
SUMMARY:Actualité de la question prioritaire de constitutionnalité (QPC)
DESCRIPTION:par Eleonora Bottini\, professeure de droit public à l’université de Caen Normandie \n\n\n\nL’événement est passé\, les inscriptions sont closes.
URL:https://icrej.unicaen.fr/evenement/actualite-de-la-question-prioritaire-de-constitutionnalite-qpc/
LOCATION:Caen · Campus 1 · Bâtiment E · Amphi D3\, Amphithéâtres D1\, D2 et D3\, Annexe Droit\, Caen\, 14000\, France
CATEGORIES:Conférence d'actualité
ATTACH;FMTTYPE=image/jpeg:https://icrej.unicaen.fr/wp-content/uploads/sites/21/2023/06/2023-09-29_Confactu.jpg
ORGANIZER;CN="Institut caennais de recherche juridique (ICREJ)":MAILTO:droit.recherche@unicaen.fr
END:VEVENT
END:VCALENDAR