BEGIN:VCALENDAR
VERSION:2.0
PRODID:-//ICREJ - Institut caennais de recherche juridique - ECPv6.15.18//NONSGML v1.0//EN
CALSCALE:GREGORIAN
METHOD:PUBLISH
X-WR-CALNAME:ICREJ - Institut caennais de recherche juridique
X-ORIGINAL-URL:https://icrej.unicaen.fr
X-WR-CALDESC:Évènements pour ICREJ - Institut caennais de recherche juridique
REFRESH-INTERVAL;VALUE=DURATION:PT1H
X-Robots-Tag:noindex
X-PUBLISHED-TTL:PT1H
BEGIN:VTIMEZONE
TZID:Europe/Paris
BEGIN:DAYLIGHT
TZOFFSETFROM:+0100
TZOFFSETTO:+0200
TZNAME:CEST
DTSTART:20220327T010000
END:DAYLIGHT
BEGIN:STANDARD
TZOFFSETFROM:+0200
TZOFFSETTO:+0100
TZNAME:CET
DTSTART:20221030T010000
END:STANDARD
BEGIN:DAYLIGHT
TZOFFSETFROM:+0100
TZOFFSETTO:+0200
TZNAME:CEST
DTSTART:20230326T010000
END:DAYLIGHT
BEGIN:STANDARD
TZOFFSETFROM:+0200
TZOFFSETTO:+0100
TZNAME:CET
DTSTART:20231029T010000
END:STANDARD
BEGIN:DAYLIGHT
TZOFFSETFROM:+0100
TZOFFSETTO:+0200
TZNAME:CEST
DTSTART:20240331T010000
END:DAYLIGHT
BEGIN:STANDARD
TZOFFSETFROM:+0200
TZOFFSETTO:+0100
TZNAME:CET
DTSTART:20241027T010000
END:STANDARD
END:VTIMEZONE
BEGIN:VEVENT
DTSTART;VALUE=DATE:20230313
DTEND;VALUE=DATE:20230323
DTSTAMP:20260424T081554
CREATED:20230301T092059Z
LAST-MODIFIED:20250129T124338Z
UID:33743-1678665600-1679529599@icrej.unicaen.fr
SUMMARY:Fête du Droit 2023 | Corps et droit
DESCRIPTION:Depuis 2016\, la Conférence des Doyens de Droit et Science politique (CDDSP) avec le soutien du ministère de l’Enseignement supérieur\, de la Recherche et de l’Innovation\, et le parrainage de nombreux éditeurs juridiques organise une manifestation d’envergure nationale : La Fête du droit. \n  \nElle aura\, cette année\, pour thème Corps et Droit. Cette nouvelle édition se déroulera du 13 au 16 mars 2023\, à la Faculté de Droit de l’université de Caen Normandie\, dans l’amphithéâtre Oresme pour la majorité des conférences (et dans l’amphithéâtre Tocqueville pour la conférence du lundi 13 mars). \nInformation\nConférence « Le corps augmenté » reportée au mercredi 22 mars 2023 (même lieu\, de 17h à 18h30) \nProgramme à télécharger \nL’événement est passé\, les inscriptions sont closes.
URL:https://icrej.unicaen.fr/evenement/fete-du-droit-2023-corps-droit/
LOCATION:Caen · Campus 1\, Université de Caen Normandie\, Espanade de la Paix\, Caen\, 14000\, France
CATEGORIES:Conférence
ATTACH;FMTTYPE=image/jpeg:https://icrej.unicaen.fr/wp-content/uploads/sites/21/2023/03/ICREJ_Bandeau_Fete-du-droit-2023.jpg
ORGANIZER;CN="Institut caennais de recherche juridique (ICREJ)":MAILTO:droit.recherche@unicaen.fr
END:VEVENT
END:VCALENDAR