BEGIN:VCALENDAR
VERSION:2.0
PRODID:-//ICREJ - Institut caennais de recherche juridique - ECPv6.15.18//NONSGML v1.0//EN
CALSCALE:GREGORIAN
METHOD:PUBLISH
X-WR-CALNAME:ICREJ - Institut caennais de recherche juridique
X-ORIGINAL-URL:https://icrej.unicaen.fr
X-WR-CALDESC:Évènements pour ICREJ - Institut caennais de recherche juridique
REFRESH-INTERVAL;VALUE=DURATION:PT1H
X-Robots-Tag:noindex
X-PUBLISHED-TTL:PT1H
BEGIN:VTIMEZONE
TZID:Europe/Paris
BEGIN:DAYLIGHT
TZOFFSETFROM:+0100
TZOFFSETTO:+0200
TZNAME:CEST
DTSTART:20220327T010000
END:DAYLIGHT
BEGIN:STANDARD
TZOFFSETFROM:+0200
TZOFFSETTO:+0100
TZNAME:CET
DTSTART:20221030T010000
END:STANDARD
BEGIN:DAYLIGHT
TZOFFSETFROM:+0100
TZOFFSETTO:+0200
TZNAME:CEST
DTSTART:20230326T010000
END:DAYLIGHT
BEGIN:STANDARD
TZOFFSETFROM:+0200
TZOFFSETTO:+0100
TZNAME:CET
DTSTART:20231029T010000
END:STANDARD
BEGIN:DAYLIGHT
TZOFFSETFROM:+0100
TZOFFSETTO:+0200
TZNAME:CEST
DTSTART:20240331T010000
END:DAYLIGHT
BEGIN:STANDARD
TZOFFSETFROM:+0200
TZOFFSETTO:+0100
TZNAME:CET
DTSTART:20241027T010000
END:STANDARD
END:VTIMEZONE
BEGIN:VEVENT
DTSTART;VALUE=DATE:20230308
DTEND;VALUE=DATE:20230309
DTSTAMP:20260421T030700
CREATED:20230308T131007Z
LAST-MODIFIED:20230308T131143Z
UID:33787-1678233600-1678319999@icrej.unicaen.fr
SUMMARY:Web 3.0 : audition de Thibault Douville par l'Inspection générale des finances
DESCRIPTION:Chargée par les ministres de l’économie\, des comptes publics et de la transition numérique de rédiger un rapport relatif à l’environnement Web3 en France : cas d’usage\, écosystème\, obstacles techniques et juridiques\, l’Inspection générale des finances a auditionné Monsieur le Professeur Thibault Douville le mercredi 8 mars 2023 matin afin de connaître les résultats de ses travaux de recherche sur plusieurs aspects juridiques de la blockchain et\, en particulier\, des NFT : en matière de droit des contrats\, de droit de la preuve\, ou encore d’identité numérique.
URL:https://icrej.unicaen.fr/evenement/audition-de-thibault-douville-par-linspection-generale-des-finances-dans-le-cadre-du-rapport-demande-par-le-gouvernement-sur-le-web-3-0/
LOCATION:Paris · 139 Rue de Bercy\, 139 Rue de Bercy\, Paris\, 75572\, France
CATEGORIES:Recherche
END:VEVENT
END:VCALENDAR