BEGIN:VCALENDAR
VERSION:2.0
PRODID:-//ICREJ - Institut caennais de recherche juridique - ECPv6.15.18//NONSGML v1.0//EN
CALSCALE:GREGORIAN
METHOD:PUBLISH
X-WR-CALNAME:ICREJ - Institut caennais de recherche juridique
X-ORIGINAL-URL:https://icrej.unicaen.fr
X-WR-CALDESC:Évènements pour ICREJ - Institut caennais de recherche juridique
REFRESH-INTERVAL;VALUE=DURATION:PT1H
X-Robots-Tag:noindex
X-PUBLISHED-TTL:PT1H
BEGIN:VTIMEZONE
TZID:Europe/Paris
BEGIN:DAYLIGHT
TZOFFSETFROM:+0100
TZOFFSETTO:+0200
TZNAME:CEST
DTSTART:20210328T010000
END:DAYLIGHT
BEGIN:STANDARD
TZOFFSETFROM:+0200
TZOFFSETTO:+0100
TZNAME:CET
DTSTART:20211031T010000
END:STANDARD
BEGIN:DAYLIGHT
TZOFFSETFROM:+0100
TZOFFSETTO:+0200
TZNAME:CEST
DTSTART:20220327T010000
END:DAYLIGHT
BEGIN:STANDARD
TZOFFSETFROM:+0200
TZOFFSETTO:+0100
TZNAME:CET
DTSTART:20221030T010000
END:STANDARD
BEGIN:DAYLIGHT
TZOFFSETFROM:+0100
TZOFFSETTO:+0200
TZNAME:CEST
DTSTART:20230326T010000
END:DAYLIGHT
BEGIN:STANDARD
TZOFFSETFROM:+0200
TZOFFSETTO:+0100
TZNAME:CET
DTSTART:20231029T010000
END:STANDARD
END:VTIMEZONE
BEGIN:VEVENT
DTSTART;TZID=Europe/Paris:20221208T173000
DTEND;TZID=Europe/Paris:20221208T200000
DTSTAMP:20260425T192547
CREATED:20221124T113412Z
LAST-MODIFIED:20240307T125654Z
UID:32846-1670520600-1670529600@icrej.unicaen.fr
SUMMARY:Michel Séjean | Présentation du Code de la cybersécurité
DESCRIPTION:Présentation du Code de la cybersécurité\nPremier instrument recensant l’ensemble des textes nationaux\, européens et internationaux en matière de cybersécurité\, accompagnés de commentaires rédigés par des universitaires spécialistes et de professionnels reconnus\, il constitue un outil essentiel à la disposition de tous les acteurs confrontés au risque cyber. \nEn présence de : \nMichel Séjean\, professeur à l’université Paris XIII\, chercheur associé à l’IHEDN et directeur scientifique du Code de la cybersécurité \nThibault Douville\, professeur à l’université de Caen Normandie\, directeur du Master droit du numérique\, coauteur du Code la cybersécurité \nL’événement est passé\, les inscriptions sont closes.
URL:https://icrej.unicaen.fr/evenement/afterwork-presentation-du-code-de-la-cybersecurite/
LOCATION:Caen · Campus 1 · Bâtiment D · 4e étage · Salle du Belvédère\, Centre de recherche en sciences de l'éducation\, Esplanade de la Paix\, Caen\, 14000\, France
CATEGORIES:Conférence
ATTACH;FMTTYPE=image/png:https://icrej.unicaen.fr/wp-content/uploads/sites/21/2022/11/ICREJ_Bandeau_Code-cyber-08-12-22.png
ORGANIZER;CN="Institut caennais de recherche juridique (ICREJ)":MAILTO:droit.recherche@unicaen.fr
END:VEVENT
END:VCALENDAR