BEGIN:VCALENDAR
VERSION:2.0
PRODID:-//ICREJ - Institut caennais de recherche juridique - ECPv6.15.18//NONSGML v1.0//EN
CALSCALE:GREGORIAN
METHOD:PUBLISH
X-ORIGINAL-URL:https://icrej.unicaen.fr
X-WR-CALDESC:Évènements pour ICREJ - Institut caennais de recherche juridique
REFRESH-INTERVAL;VALUE=DURATION:PT1H
X-Robots-Tag:noindex
X-PUBLISHED-TTL:PT1H
BEGIN:VTIMEZONE
TZID:Europe/Paris
BEGIN:DAYLIGHT
TZOFFSETFROM:+0100
TZOFFSETTO:+0200
TZNAME:CEST
DTSTART:20180325T010000
END:DAYLIGHT
BEGIN:STANDARD
TZOFFSETFROM:+0200
TZOFFSETTO:+0100
TZNAME:CET
DTSTART:20181028T010000
END:STANDARD
BEGIN:DAYLIGHT
TZOFFSETFROM:+0100
TZOFFSETTO:+0200
TZNAME:CEST
DTSTART:20190331T010000
END:DAYLIGHT
BEGIN:STANDARD
TZOFFSETFROM:+0200
TZOFFSETTO:+0100
TZNAME:CET
DTSTART:20191027T010000
END:STANDARD
BEGIN:DAYLIGHT
TZOFFSETFROM:+0100
TZOFFSETTO:+0200
TZNAME:CEST
DTSTART:20200329T010000
END:DAYLIGHT
BEGIN:STANDARD
TZOFFSETFROM:+0200
TZOFFSETTO:+0100
TZNAME:CET
DTSTART:20201025T010000
END:STANDARD
END:VTIMEZONE
BEGIN:VEVENT
DTSTART;TZID=Europe/Paris:20190621T093000
DTEND;TZID=Europe/Paris:20190621T173000
DTSTAMP:20260421T010420
CREATED:20230630T125154Z
LAST-MODIFIED:20230630T125247Z
UID:48073-1561109400-1561138200@icrej.unicaen.fr
SUMMARY:Médecine et assurance
DESCRIPTION:Sous la direction d’Amandine Cayol et Mathias Couturier\, Maîtres de conférences à l’Université de Caen Normandie. \n\n\n\nDans le cadre du colloque annuel qu’initient les étudiants du Master 2 Assurances et personnes\, l’Institut Demolombe organise cette année cet événement sur le thème « Médecine et assurance ». Il s’agit d’interroger les rapports entre le droit des assurances et la pratique des activités médicales dans leurs inflexions récentes afin notamment de mettre en lumière le rôle de l’assureur dans ses interactions avec les malades\, les professionnels de santé et les acteurs de l’indemnisation du dommage médical. \n\n\n\nLa matinée sera consacrée à une analyse des enjeux contemporains de l’information médicale au travers de deux thèmes qui intéressent particulièrement l’assurance. D’abord\, la question de l’obstacle que peut constituer le secret médical aux exigences de la preuve dans l’assurance de personnes. Ensuite\, le problème du développement des obligations d’information pesant sur le médecin à l’égard du malade et l’extension importante de la mise en jeu de la responsabilité civile de ce dernier telle que la jurisprudence de la Cour de cassation de ces dernières années l’a permise. \n\n\n\nL’après-midi abordera le thème de l’indemnisation du préjudice corporel résultant d’une activité de soins médicaux. Il s’agira\, dans un premier temps\, d’analyser les différentes dimensions de l’évaluation et de la réparation du préjudice corporel consécutif à un dommage médical. Dans un second temps\, il s’agira d’analyser la question de la répartition de la charge de cette indemnisation du dommage médical entre les différents organismes payeurs. \n\n\n\nProgramme (pdf · 553 Ko)Télécharger (pdf · 553 Ko)
URL:https://icrej.unicaen.fr/evenement/medecine-et-assurance/
LOCATION:Caen · Campus 1 · Bâtiment D · Amphi Jean Demolombe\, Centre de recherche en sciences de l'éducation\, Esplanade de la Paix\, Caen\, 14000\, France
CATEGORIES:Congrès - Colloque
END:VEVENT
END:VCALENDAR